BEGIN:VCALENDAR
VERSION:2.0
PRODID:-//Ajuntament de Riba-roja d&#039;Ebre - ECPv6.15.20//NONSGML v1.0//EN
CALSCALE:GREGORIAN
METHOD:PUBLISH
X-WR-CALNAME:Ajuntament de Riba-roja d&#039;Ebre
X-ORIGINAL-URL:https://riba-roja.cat
X-WR-CALDESC:Eventos para Ajuntament de Riba-roja d&#039;Ebre
REFRESH-INTERVAL;VALUE=DURATION:PT1H
X-Robots-Tag:noindex
X-PUBLISHED-TTL:PT1H
BEGIN:VTIMEZONE
TZID:Europe/Madrid
BEGIN:DAYLIGHT
TZOFFSETFROM:+0100
TZOFFSETTO:+0200
TZNAME:CEST
DTSTART:20200329T010000
END:DAYLIGHT
BEGIN:STANDARD
TZOFFSETFROM:+0200
TZOFFSETTO:+0100
TZNAME:CET
DTSTART:20201025T010000
END:STANDARD
BEGIN:DAYLIGHT
TZOFFSETFROM:+0100
TZOFFSETTO:+0200
TZNAME:CEST
DTSTART:20210328T010000
END:DAYLIGHT
BEGIN:STANDARD
TZOFFSETFROM:+0200
TZOFFSETTO:+0100
TZNAME:CET
DTSTART:20211031T010000
END:STANDARD
BEGIN:DAYLIGHT
TZOFFSETFROM:+0100
TZOFFSETTO:+0200
TZNAME:CEST
DTSTART:20220327T010000
END:DAYLIGHT
BEGIN:STANDARD
TZOFFSETFROM:+0200
TZOFFSETTO:+0100
TZNAME:CET
DTSTART:20221030T010000
END:STANDARD
END:VTIMEZONE
BEGIN:VEVENT
DTSTART;TZID=Europe/Madrid:20210828T133000
DTEND;TZID=Europe/Madrid:20210828T150000
DTSTAMP:20260423T114824
CREATED:20210812T090642Z
LAST-MODIFIED:20210817T104258Z
UID:19178-1630157400-1630162800@riba-roja.cat
SUMMARY:Concert de Vermut
DESCRIPTION:Clica i consulta el programa d’actes de la Festa Major 2021 \nA les 13:30h\, al carrer Major\, concert de vermut a càrrec de la Banda de Falset. \n 
URL:https://riba-roja.cat/agenda/concert-de-vermut/
ATTACH;FMTTYPE=image/jpeg:https://riba-roja.cat/wp-content/uploads/2021/08/Programa-de-ma-1.jpg
END:VEVENT
BEGIN:VEVENT
DTSTART;TZID=Europe/Madrid:20210828T120000
DTEND;TZID=Europe/Madrid:20210828T130000
DTSTAMP:20260423T114824
CREATED:20210812T090442Z
LAST-MODIFIED:20210817T103258Z
UID:19172-1630152000-1630155600@riba-roja.cat
SUMMARY: Santa Missa en honor a Sant Agustí
DESCRIPTION:Clica i consulta el programa d’actes de la Festa Major 2021 \nA les 12h\, Santa Missa en honor a Sant Agustí. Majorals: Família Aresté. \nPer motius de la pandèmia de la Covid\, no es podrà repartir Pa Beneït. \n 
URL:https://riba-roja.cat/agenda/santa-missa-en-honor-a-sant-agusti/
ATTACH;FMTTYPE=image/jpeg:https://riba-roja.cat/wp-content/uploads/2021/08/Programa-de-ma-1.jpg
END:VEVENT
BEGIN:VEVENT
DTSTART;VALUE=DATE:20210828
DTEND;VALUE=DATE:20210829
DTSTAMP:20260423T114824
CREATED:20210812T090528Z
LAST-MODIFIED:20210817T102316Z
UID:19175-1630108800-1630195199@riba-roja.cat
SUMMARY:FESTIVITAT DE SANT AGUSTÍ
DESCRIPTION:Podeu consultar tots els actes de la celebració a l’agenda del web i al programa de Festa Major. \nClica i consulta el programa d’actes de la Festa Major 2021
URL:https://riba-roja.cat/agenda/festivitat-de-sant-agusti/
ATTACH;FMTTYPE=image/jpeg:https://riba-roja.cat/wp-content/uploads/2021/08/Programa-de-ma-1.jpg
END:VEVENT
BEGIN:VEVENT
DTSTART;TZID=Europe/Madrid:20210827T200000
DTEND;TZID=Europe/Madrid:20210828T003000
DTSTAMP:20260423T114824
CREATED:20210812T090313Z
LAST-MODIFIED:20210817T102344Z
UID:19169-1630094400-1630110600@riba-roja.cat
SUMMARY:Capvespre Jove a la Societat
DESCRIPTION:Clica i consulta el programa d’actes de la Festa Major 2021 \nA les 20h\, a la Pista de la Societat Capvespre Jove. \nConstarà de quatre grups locals de música molt diversa. \n\nSintrón ni sòn\, Folck Rock riberenc.\nÉs cosa de 3\, és un grup de versions acústic que neix a Flix a partir d’una amistat espontània unida per la música. El passat 23 de juny van treure el seu primer single “Andròmeda” una cançó del més pur estil pop.\nAdrià Cid and the Ciderals\, ens presentaran el nou disc\, un recorregut de cançons gestades al llarg d’una dècada de creació musical.\nOn My Own\, banda de rock alternatiu que debutarà en concert.\n\nAquest acte requereix reserva prèvia. Podeu fer la inscripció en aquest enllaç.
URL:https://riba-roja.cat/agenda/capvespre-jove-a-la-societat/
LOCATION:Pista d’Estiu de la Societat\, carrer Fatarella\, Riba-roja d'Ebre
ATTACH;FMTTYPE=image/jpeg:https://riba-roja.cat/wp-content/uploads/2021/08/Programa-de-ma-1.jpg
END:VEVENT
BEGIN:VEVENT
DTSTART;TZID=Europe/Madrid:20210827T190000
DTEND;TZID=Europe/Madrid:20210827T200000
DTSTAMP:20260423T114824
CREATED:20210812T090046Z
LAST-MODIFIED:20210817T102455Z
UID:19165-1630090800-1630094400@riba-roja.cat
SUMMARY:Sardanes amb la Cobla Jove de Reus
DESCRIPTION:Clica i consulta el programa d’actes de la Festa Major 2021 \nA les 19h\, a la plaça de l’Església\, concert de tarda a càrrec de la Cobla Jove de Reus. \nLa cobla de Reus Jove va presentar-se el 22 de novembre del 1997\, fruit de la iniciativa d’un grup de joves\, amb interès de fer música de cobla i oferir un bon treball en les seves actuacions\, millorant a la vegada el seu nivell musical. \nAquest acte requereix reserva prèvia. Podeu fer la inscripció en aquest enllaç.
URL:https://riba-roja.cat/agenda/sardanes-amb-la-cobla-jove-de-reus/
LOCATION:Plaça de l’Esglesia
ATTACH;FMTTYPE=image/jpeg:https://riba-roja.cat/wp-content/uploads/2021/08/Programa-de-ma-1.jpg
END:VEVENT
BEGIN:VEVENT
DTSTART;TZID=Europe/Madrid:20210827T110000
DTEND;TZID=Europe/Madrid:20210827T140000
DTSTAMP:20260423T114824
CREATED:20210812T085847Z
LAST-MODIFIED:20210817T102524Z
UID:19161-1630062000-1630072800@riba-roja.cat
SUMMARY:Festa Aquàtica amb inflables a la piscina
DESCRIPTION:Clica i consulta el programa d’actes de la Festa Major 2021 \nA les 11h i fins a les 14h\, al Poliesportiu municipal\, Festa Aquàtica amb inflables d’aigua per a totes les edats. \nAquest acte requereix reserva prèvia. Podeu fer la inscripció en aquest enllaç.
URL:https://riba-roja.cat/agenda/festa-aquatica-amb-inflables-a-la-piscina/
LOCATION:Poliesportiu Municipal
ATTACH;FMTTYPE=image/jpeg:https://riba-roja.cat/wp-content/uploads/2021/08/Programa-de-ma-1.jpg
END:VEVENT
BEGIN:VEVENT
DTSTART;TZID=Europe/Madrid:20210827T080000
DTEND;TZID=Europe/Madrid:20210827T130000
DTSTAMP:20260423T114824
CREATED:20210628T095325Z
LAST-MODIFIED:20210817T102553Z
UID:18172-1630051200-1630069200@riba-roja.cat
SUMMARY:Caminada Festa Major
DESCRIPTION:A les 8:30h\, Caminada Popular de Festa Major per a totes les edats\, organitzada per l’Associació Figot Tour. \nHora trobada: 8h \nSortida: Plaça de la Vila \nDistància: 7\,29 km \nInscripcions: Ajuntament\, per correu a figottour@gmail.com i al whatsapp 658389283. \nCal portar roba còmoda\, calçat adequat\, aigua i esmorzar. Per motius de la pandèmia de la Covid\, no es proporcionarà avituallament\, i la sortida serà de forma esglaonada respectant els grups de convivència. \nRecorda que pots trobar itineraris de rutes per fer de manera individual o en grup bombolla en aquest apartat del web\, i et pots fer soci de Figot Tour aquí. \n 
URL:https://riba-roja.cat/agenda/caminada-festa-major/
ATTACH;FMTTYPE=image/jpeg:https://riba-roja.cat/wp-content/uploads/2021/06/CAMINADA-POPULAR-DE-LA-FESTA-MAJOR.jpg
END:VEVENT
BEGIN:VEVENT
DTSTART;TZID=Europe/Madrid:20210826T220000
DTEND;TZID=Europe/Madrid:20210826T233000
DTSTAMP:20260423T114824
CREATED:20210812T091138Z
LAST-MODIFIED:20210817T102633Z
UID:19185-1630015200-1630020600@riba-roja.cat
SUMMARY:Espectacle de monòlegs i màgia
DESCRIPTION:Clica i consulta el programa d’actes de la Festa Major 2021 \nA les 22h\, a la Pista d’Estiu la Societat\, espectacle de monòlegs i màgia. \nAquest acte requereix reserva prèvia. Podeu fer la inscripció en aquest enllaç.
URL:https://riba-roja.cat/agenda/espectacle-de-monolegs-i-magia/
LOCATION:Pista d’Estiu de la Societat\, carrer Fatarella\, Riba-roja d'Ebre
ATTACH;FMTTYPE=image/jpeg:https://riba-roja.cat/wp-content/uploads/2021/08/Programa-de-ma-1.jpg
END:VEVENT
BEGIN:VEVENT
DTSTART;TZID=Europe/Madrid:20210826T190000
DTEND;TZID=Europe/Madrid:20210826T220000
DTSTAMP:20260423T114824
CREATED:20210812T090833Z
LAST-MODIFIED:20210817T102658Z
UID:19181-1630004400-1630015200@riba-roja.cat
SUMMARY:DJ a la fresca
DESCRIPTION:Clica i consulta el programa d’actes de la Festa Major 2021 \nDe 19 a 22h\, a la zona del poliesportiu municipal\, Dj IAN: DJ a la fresca\, viatge musical dels 80 fins l’actualitat. \nAquest acte requereix reserva prèvia. Podeu fer la inscripció en aquest enllaç.
URL:https://riba-roja.cat/agenda/dj-a-la-fresca/
LOCATION:Poliesportiu Municipal
ATTACH;FMTTYPE=image/jpeg:https://riba-roja.cat/wp-content/uploads/2021/08/Programa-de-ma-1.jpg
END:VEVENT
BEGIN:VEVENT
DTSTART;TZID=Europe/Madrid:20210826T180000
DTEND;TZID=Europe/Madrid:20210826T200000
DTSTAMP:20260423T114824
CREATED:20210812T085344Z
LAST-MODIFIED:20210817T102709Z
UID:19156-1630000800-1630008000@riba-roja.cat
SUMMARY:Taller de circ
DESCRIPTION:Clica i consulta el programa d’actes de la Festa Major 2021 \nA les 18h\, a la plaça del Forn\, taller de circ. \nUna carpa de circ  es desplegarà a la plaça  on grans i infants podran gaudir i aprendre una pila de trucs i acrobàcies. \nAquest acte requereix reserva prèvia. Podeu fer la inscripció en aquest enllaç.
URL:https://riba-roja.cat/agenda/taller-de-circ/
LOCATION:plaça del Forn
ATTACH;FMTTYPE=image/jpeg:https://riba-roja.cat/wp-content/uploads/2021/08/Programa-de-ma-1.jpg
END:VEVENT
BEGIN:VEVENT
DTSTART;TZID=Europe/Madrid:20210825T220000
DTEND;TZID=Europe/Madrid:20210825T233000
DTSTAMP:20260423T114824
CREATED:20210812T085037Z
LAST-MODIFIED:20210817T103432Z
UID:19151-1629928800-1629934200@riba-roja.cat
SUMMARY:Cinema a la fresca: 'Aladdin'
DESCRIPTION:Clica i consulta el programa d’actes de la Festa Major 2021 \nA les 22h\, a la plaça de l’Església\, cinema a la fresca amb la pel·lícula Aladdin. \nAquest acte requereix reserva prèvia. Podeu fer la inscripció en aquest enllaç. \n 
URL:https://riba-roja.cat/agenda/cinema-a-la-fresca-aladdin/
LOCATION:Plaça de l’Esglesia
ATTACH;FMTTYPE=image/jpeg:https://riba-roja.cat/wp-content/uploads/2021/08/Programa-de-ma-1.jpg
END:VEVENT
BEGIN:VEVENT
DTSTART;TZID=Europe/Madrid:20210825T200000
DTEND;TZID=Europe/Madrid:20210825T213000
DTSTAMP:20260423T114824
CREATED:20210812T084852Z
LAST-MODIFIED:20210817T102833Z
UID:19148-1629921600-1629927000@riba-roja.cat
SUMMARY:Futbol sala
DESCRIPTION:Clica i consulta el programa d’actes de la Festa Major 2021 \nA les 20h\, al Pavelló Municipal d’Esports: Partit de fútbol sala amb l’equip local Juventut Esportiva de Riba-roja d’Ebre \nAquest acte requereix reserva prèvia. Podeu fer la inscripció en aquest enllaç.
URL:https://riba-roja.cat/agenda/futbol-sala/
ATTACH;FMTTYPE=image/jpeg:https://riba-roja.cat/wp-content/uploads/2021/08/Programa-de-ma-1.jpg
END:VEVENT
BEGIN:VEVENT
DTSTART;TZID=Europe/Madrid:20210825T190000
DTEND;TZID=Europe/Madrid:20210825T203000
DTSTAMP:20260423T114824
CREATED:20210812T084643Z
LAST-MODIFIED:20210817T102844Z
UID:19144-1629918000-1629923400@riba-roja.cat
SUMMARY:'El senyor de les Baldufes'
DESCRIPTION:Clica i consulta el programa d’actes de la Festa Major 2021 \nA les 19h\, a la Pista d’Estiu la Societat\, espectacle per a tots els públics El senyor de les Baldufes. \nAquest espectacle destaca per l’originalitat i qualitat dels trucs. Ens arriba  des de llocs desconeguts per a capturar-nos amb el seu misteri i presentar-nos l’univers baldufesc que ha creat… on cada baldufa\, torotola i toupie\, engendra una vida pròpia manifestant un món únic i delirant. De ben segur que no us deixarà indiferents… \nAquest acte requereix reserva prèvia. Podeu fer la inscripció en aquest enllaç.
URL:https://riba-roja.cat/agenda/el-senyor-de-les-baldufes/
ATTACH;FMTTYPE=image/jpeg:https://riba-roja.cat/wp-content/uploads/2021/08/Programa-de-ma-1.jpg
END:VEVENT
BEGIN:VEVENT
DTSTART;TZID=Europe/Madrid:20210825T110000
DTEND;TZID=Europe/Madrid:20210825T130000
DTSTAMP:20260423T114824
CREATED:20210812T084430Z
LAST-MODIFIED:20210817T102900Z
UID:19139-1629889200-1629896400@riba-roja.cat
SUMMARY:Bicicletada popular
DESCRIPTION:Clica i consulta el programa d’actes de la Festa Major 2021 \nA les 11h\, Bicicletada popular organitzada pel Club  Ciclista de Riba-roja d’Ebre. \nSortida des de la plaça de la Vila. \nTant a la sortida\, com a l’arribada\, es donarà aigua perquè pugueu omplir els vostres bidons. \nPer motius de la pandèmia de la Covid\, no se subministrarà avituallament i la sortida serà esglaonada respectant els grups de convivència. \nAquest acte requereix reserva prèvia. Podeu fer la inscripció en aquest enllaç.
URL:https://riba-roja.cat/agenda/bicicletada-popular/
LOCATION:Plaça de la Vila
ATTACH;FMTTYPE=image/jpeg:https://riba-roja.cat/wp-content/uploads/2021/08/Programa-de-ma-1.jpg
END:VEVENT
BEGIN:VEVENT
DTSTART;VALUE=DATE:20210825
DTEND;VALUE=DATE:20210826
DTSTAMP:20260423T114824
CREATED:20210812T084115Z
LAST-MODIFIED:20210817T102916Z
UID:19136-1629849600-1629935999@riba-roja.cat
SUMMARY:FESTIVITAT DE SANTA MADRONA\, PATRONA DE RIBA-ROJA
DESCRIPTION:Clica i consulta el programa d’actes de la Festa Major 2021
URL:https://riba-roja.cat/agenda/festivitat-de-santa-madrona-patrona-de-riba-roja/
ATTACH;FMTTYPE=image/jpeg:https://riba-roja.cat/wp-content/uploads/2021/08/Programa-de-ma-1.jpg
END:VEVENT
BEGIN:VEVENT
DTSTART;TZID=Europe/Madrid:20210824T223000
DTEND;TZID=Europe/Madrid:20210825T003000
DTSTAMP:20260423T114824
CREATED:20210812T083846Z
LAST-MODIFIED:20210817T102927Z
UID:19130-1629844200-1629851400@riba-roja.cat
SUMMARY:Wellcome Band nit
DESCRIPTION:Clica i consulta el programa d’actes de la Festa Major 2021 \nA les 22:30h\, a la Pista d’Estiu de la Societat\, concert de capvespre a càrrec de l’Orquestra Wellcome Band. \nAquest acte requereix reserva prèvia. Podeu fer la inscripció en aquest enllaç.
URL:https://riba-roja.cat/agenda/wellcome-band-nit/
LOCATION:Pista d’Estiu de la Societat\, carrer Fatarella\, Riba-roja d'Ebre
ATTACH;FMTTYPE=image/jpeg:https://riba-roja.cat/wp-content/uploads/2021/08/Programa-de-ma-1.jpg
END:VEVENT
BEGIN:VEVENT
DTSTART;TZID=Europe/Madrid:20210824T180000
DTEND;TZID=Europe/Madrid:20210824T200000
DTSTAMP:20260423T114824
CREATED:20210812T083626Z
LAST-MODIFIED:20210817T102935Z
UID:19126-1629828000-1629835200@riba-roja.cat
SUMMARY:Wellcome Band tarda
DESCRIPTION:Clica i consulta el programa d’actes de la Festa Major 2021 \nA les 18h\, a la Pista d’Estiu la Societat\, concert de tarda amb l’orquestra Wellcome Band. \nEn acabar\, la Banda Vila de Falset\, ens amenitzarà amb la tradicional Jota de Riba-roja. \nRecordem que per motius de la pandèmia de la Covid no es podrà ballar. \nAquest acte requereix reserva prèvia. Podeu fer la inscripció en aquest enllaç.
URL:https://riba-roja.cat/agenda/wellcome-band/
LOCATION:Pista d’Estiu de la Societat\, carrer Fatarella\, Riba-roja d'Ebre
ATTACH;FMTTYPE=image/jpeg:https://riba-roja.cat/wp-content/uploads/2021/08/Programa-de-ma-1.jpg
END:VEVENT
BEGIN:VEVENT
DTSTART;TZID=Europe/Madrid:20210824T110000
DTEND;TZID=Europe/Madrid:20210824T120000
DTSTAMP:20260423T114824
CREATED:20210812T082925Z
LAST-MODIFIED:20210817T102947Z
UID:19123-1629802800-1629806400@riba-roja.cat
SUMMARY:Missa en honor a sant Bartomeu
DESCRIPTION:Clica i consulta el programa d’actes de la Festa Major 2021 \nA les 11h\, Santa Missa en honor al nostre patró Sant Bertomeu. Majorals: quintos/es nascuts el 1951. \nPer motius de la pandèmia de la Covid\, no es podrà repartir Pa Beneït.
URL:https://riba-roja.cat/agenda/missa-en-honor-a-sant-bartomeu/
ATTACH;FMTTYPE=image/jpeg:https://riba-roja.cat/wp-content/uploads/2021/08/Programa-de-ma-1.jpg
END:VEVENT
BEGIN:VEVENT
DTSTART;TZID=Europe/Madrid:20210824T100000
DTEND;TZID=Europe/Madrid:20210828T110000
DTSTAMP:20260423T114824
CREATED:20210812T080416Z
LAST-MODIFIED:20210817T103004Z
UID:19116-1629799200-1630148400@riba-roja.cat
SUMMARY:Cercavila matinal
DESCRIPTION:A les 10h\, cercavila matinal amb la Banda Vila de Falset. \nPer motius de la Covid\, no es pot acompanyar la banda pels carrers de la Vila. \nClica i consulta el programa d’actes de la Festa Major 2021
URL:https://riba-roja.cat/agenda/cercavila-matinal/
ATTACH;FMTTYPE=image/jpeg:https://riba-roja.cat/wp-content/uploads/2021/08/Programa-de-ma-1.jpg
END:VEVENT
BEGIN:VEVENT
DTSTART;TZID=Europe/Madrid:20210824T080000
DTEND;TZID=Europe/Madrid:20210824T090000
DTSTAMP:20260423T114824
CREATED:20210812T080222Z
LAST-MODIFIED:20210817T103025Z
UID:19112-1629792000-1629795600@riba-roja.cat
SUMMARY:Toc de diana!
DESCRIPTION:A les 8h\, toc de diana amb la Banda Vila de Falset. \nPrograma de mà Festa Major Riba-roja d’Ebre 2021
URL:https://riba-roja.cat/agenda/toc-de-diana/
ATTACH;FMTTYPE=image/jpeg:https://riba-roja.cat/wp-content/uploads/2021/08/Programa-de-ma-1.jpg
END:VEVENT
BEGIN:VEVENT
DTSTART;VALUE=DATE:20210824
DTEND;VALUE=DATE:20210825
DTSTAMP:20260423T114824
CREATED:20210812T080100Z
LAST-MODIFIED:20210817T103059Z
UID:19109-1629763200-1629849599@riba-roja.cat
SUMMARY:FESTIVITAT DE SANT BARTOMEU\, PATRÓ DE RIBA-ROJA
DESCRIPTION:Clica i consulta el programa d’actes de la Festa Major 2021
URL:https://riba-roja.cat/agenda/festivitat-de-sant-bartomeu-patro-de-riba-roja/
ATTACH;FMTTYPE=image/jpeg:https://riba-roja.cat/wp-content/uploads/2021/08/Programa-de-ma-1.jpg
END:VEVENT
BEGIN:VEVENT
DTSTART;TZID=Europe/Madrid:20210823T223000
DTEND;TZID=Europe/Madrid:20210823T233000
DTSTAMP:20260423T114824
CREATED:20210812T075928Z
LAST-MODIFIED:20210817T103036Z
UID:19106-1629757800-1629761400@riba-roja.cat
SUMMARY:Proclamació pubilles i hereus i pregó de Festa Major
DESCRIPTION:Clica i consulta el programa d’actes de la Festa Major 2021 \nA dos quarts d’11\, a la pista de la Societat\, proclamació de les pubilles i hereus: Gal·la Espinosa Muñoz\, Nora Montiel Ruiz\, Marta Piñol Rodríguez\, Dafne Sanz López\, Kevin García Reina\, Saul Guillén Reina\, Pau Sánchez Viol i Andrew Nicholas Shattock. \nA continuació\, pregó de Festa Major a càrrec de la Sra. Leonor Cervelló Garcia\, mestra i directora del CEIP jubilada i veïna del poble. \nClourà l’acte la Banda Vila de Falset interpretant l’Himne de Riba-roja. \nAquest acte requereix reserva prèvia. Podeu fer la inscripció en aquest enllaç.
URL:https://riba-roja.cat/agenda/proclamacio-pubilles-i-hereus-i-prego-de-festa-major/
LOCATION:Pista d’Estiu de la Societat\, carrer Fatarella\, Riba-roja d'Ebre
ATTACH;FMTTYPE=image/jpeg:https://riba-roja.cat/wp-content/uploads/2021/08/Programa-de-ma-1.jpg
END:VEVENT
BEGIN:VEVENT
DTSTART;TZID=Europe/Madrid:20210823T190000
DTEND;TZID=Europe/Madrid:20210823T200000
DTSTAMP:20260423T114824
CREATED:20210812T075537Z
LAST-MODIFIED:20210817T105649Z
UID:19101-1629745200-1629748800@riba-roja.cat
SUMMARY:Disco Baralluga
DESCRIPTION:Clica i consulta el programa d’actes de la Festa Major 2021 \nA les set de la tarda\, tots els nens i nenes al carrer! A la plaça del Forn\, actuació del grup d’animació infantil Disco Baralluga. Prepareu-vos per escoltar i gaudir de l’espectacle i de les cançons més divertides! \nAquest acte requereix reserva prèvia. Podeu fer la inscripció en aquest enllaç.
URL:https://riba-roja.cat/agenda/disco-baralluga/
LOCATION:plaça del Forn
ATTACH;FMTTYPE=image/jpeg:https://riba-roja.cat/wp-content/uploads/2021/08/Programa-de-ma-1.jpg
END:VEVENT
BEGIN:VEVENT
DTSTART;TZID=Europe/Madrid:20210823T120000
DTEND;TZID=Europe/Madrid:20210823T123000
DTSTAMP:20260423T114824
CREATED:20210812T075316Z
LAST-MODIFIED:20210817T103116Z
UID:19095-1629720000-1629721800@riba-roja.cat
SUMMARY:Comença la Festa Major!
DESCRIPTION:A les 12h\, gran tronada i repic de campanes anunciant que comença la Festa Major 2021! \nClica i consulta el programa d’actes de la Festa Major 2021 \n 
URL:https://riba-roja.cat/agenda/comenca-la-festa-major/
ATTACH;FMTTYPE=image/jpeg:https://riba-roja.cat/wp-content/uploads/2021/08/Programa-de-ma-1.jpg
END:VEVENT
BEGIN:VEVENT
DTSTART;TZID=Europe/Madrid:20210807T203000
DTEND;TZID=Europe/Madrid:20210807T235500
DTSTAMP:20260423T114824
CREATED:20210628T094908Z
LAST-MODIFIED:20210719T111603Z
UID:18166-1628368200-1628380500@riba-roja.cat
SUMMARY:Caminada al Capvespre sota la pluja d'estels
DESCRIPTION:Dissabte 7 d’agost\, Caminada al Capvespre sota la pluja d’estels\, sortida a les 20.30 a la plaça de Vila. \nInformació: Durada 3.30h\, distància 10km aproximadament i dificultat baixa. \nEt pots inscriure a les oficines municipals (Telf. 977 416 003)\, per correu a figottour@gmail.com o per whatsApp al 658 389 283) \nRecomanacions: Portar sopar\, aigua\, frontal o llanterna\, calçat adequat i repel·lent de mosquits. \nSorteig d’un obsequi entre tots els participants\, gentilesa de la Unió de Comerç i Serveis de Riba-roja d’Ebre. \nRecorda que pots trobar itineraris de rutes per fer de manera individual o en grup bombolla en aquest apartat del web\, i et pots fer soci de Figot Tour aquí.
URL:https://riba-roja.cat/agenda/caminada-pluja-estels/
ATTACH;FMTTYPE=image/jpeg:https://riba-roja.cat/wp-content/uploads/2021/06/Caminada-al-capvespre-sota-la-pluja-destels.jpg
END:VEVENT
BEGIN:VEVENT
DTSTART;TZID=Europe/Madrid:20210729T223000
DTEND;TZID=Europe/Madrid:20210729T233000
DTSTAMP:20260423T114824
CREATED:20210701T175836Z
LAST-MODIFIED:20210701T175836Z
UID:18413-1627597800-1627601400@riba-roja.cat
SUMMARY:Ioga a la fresca
DESCRIPTION:Els dijous 8\,15\,22 i 29 de juliol\, Ioga a la Fresca\, de les 22.30 a les 23.30 hores a les piscines municipals. \nActivitat oberta a tothom\, es recomana portar roba còmoda\, esterilla i manteta. \nPreu 10€\, inscripcions a les oficines de l’Ajuntament.
URL:https://riba-roja.cat/agenda/ioga-a-la-fresca-4/
ATTACH;FMTTYPE=image/png:https://riba-roja.cat/wp-content/uploads/2021/07/Ioga-piscina-municipal-riba-roja.png
END:VEVENT
BEGIN:VEVENT
DTSTART;TZID=Europe/Madrid:20210724T170000
DTEND;TZID=Europe/Madrid:20210724T200000
DTSTAMP:20260423T114824
CREATED:20210701T182549Z
LAST-MODIFIED:20210701T182549Z
UID:18417-1627146000-1627156800@riba-roja.cat
SUMMARY:Natació Non Stop
DESCRIPTION:Dissabte 24 de juliol\, 3 hores de natació Non Stop\, solidària amb la Fundació per l’Esclerosi Múltiple\, de 17 a 20 hores a les piscines municipals. \nPreu: 5 euros adults i 2 euros infants. 1 euro de cada inscripcions va a la Fundació per l’Esclerosi Múltiple. Inscripcions a l’Ajuntament o el mateix dia a la piscina. \nEn acabar Pasta Party!
URL:https://riba-roja.cat/agenda/natacio-non-stop/
ATTACH;FMTTYPE=image/png:https://riba-roja.cat/wp-content/uploads/2021/07/non-stop-riba-roja.png
END:VEVENT
BEGIN:VEVENT
DTSTART;TZID=Europe/Madrid:20210722T223000
DTEND;TZID=Europe/Madrid:20210722T233000
DTSTAMP:20260423T114824
CREATED:20210701T175746Z
LAST-MODIFIED:20210701T175746Z
UID:18410-1626993000-1626996600@riba-roja.cat
SUMMARY:Ioga a la fresca
DESCRIPTION:Els dijous 8\,15\,22 i 29 de juliol\, Ioga a la Fresca\, de les 22.30 a les 23.30 hores a les piscines municipals. \nActivitat oberta a tothom\, es recomana portar roba còmoda\, esterilla i manteta. \nPreu 10€\, inscripcions a les oficines de l’Ajuntament.
URL:https://riba-roja.cat/agenda/ioga-a-la-fresca-3/
ATTACH;FMTTYPE=image/png:https://riba-roja.cat/wp-content/uploads/2021/07/Ioga-piscina-municipal-riba-roja.png
END:VEVENT
BEGIN:VEVENT
DTSTART;TZID=Europe/Madrid:20210715T223000
DTEND;TZID=Europe/Madrid:20210715T233000
DTSTAMP:20260423T114824
CREATED:20210701T175645Z
LAST-MODIFIED:20210701T175645Z
UID:18407-1626388200-1626391800@riba-roja.cat
SUMMARY:Ioga a la fresca
DESCRIPTION:Els dijous 8\,15\,22 i 29 de juliol\, Ioga a la Fresca\, de les 22.30 a les 23.30 hores a les piscines municipals. \nActivitat oberta a tothom\, es recomana portar roba còmoda\, esterilla i manteta. \nPreu 10€\, inscripcions a les oficines de l’Ajuntament.
URL:https://riba-roja.cat/agenda/ioga-a-la-fresca-2/
ATTACH;FMTTYPE=image/png:https://riba-roja.cat/wp-content/uploads/2021/07/Ioga-piscina-municipal-riba-roja.png
END:VEVENT
BEGIN:VEVENT
DTSTART;VALUE=DATE:20210712
DTEND;VALUE=DATE:20210807
DTSTAMP:20260423T114824
CREATED:20210628T094500Z
LAST-MODIFIED:20210701T171052Z
UID:18163-1626048000-1628294399@riba-roja.cat
SUMMARY:Casal 2021
DESCRIPTION:Un any més\, l’Àrea de Joventut\, Esports\, Educació i Comunicació de l’Ajuntament de Riba-roja d’Ebre organitza el Casal d’Estiu per a nens i nenes d’entre P-3 i 6è curs de primària. El casal s’inicia el dilluns 12 de juliol i conclou el divendres 6 d’agost\, i està organitzat per quinzenes. L’horari és de dilluns a divendres de 9 a 13 hores del mati. El casal\, amb seu a l’Escola Sant Agustí\, es realitzarà en 4 punts diferents: Escola Sant Agustí\, Parc Mercè Rodoreda\, Pavelló municipal i Aula d’art municipal. \nL’eix conductor del Casal 2021 serà “VIATGEM”. Hi haurà 4 grans eixos: arts\, jocs\, esport i explorem. Dins de cada matèria es desenvoluparan diferents activitats. Per tal de tenir el màxim de comunicació amb les famílies\, enguany obrirem 4 grups de Whatsapp\, un per cada grup bombolla\, i cada dia us explicarem les novetats i els canvis que puguin succeir. \nMés informació aquí.
URL:https://riba-roja.cat/agenda/casal-2021/
ATTACH;FMTTYPE=image/png:https://riba-roja.cat/wp-content/uploads/2021/05/Reunio-informativa-families-casal-estiu.png
END:VEVENT
END:VCALENDAR