BEGIN:VCALENDAR
VERSION:2.0
PRODID:-//Ajuntament de Riba-roja d&#039;Ebre - ECPv6.15.20//NONSGML v1.0//EN
CALSCALE:GREGORIAN
METHOD:PUBLISH
X-WR-CALNAME:Ajuntament de Riba-roja d&#039;Ebre
X-ORIGINAL-URL:https://riba-roja.cat
X-WR-CALDESC:Eventos para Ajuntament de Riba-roja d&#039;Ebre
REFRESH-INTERVAL;VALUE=DURATION:PT1H
X-Robots-Tag:noindex
X-PUBLISHED-TTL:PT1H
BEGIN:VTIMEZONE
TZID:Europe/Madrid
BEGIN:DAYLIGHT
TZOFFSETFROM:+0100
TZOFFSETTO:+0200
TZNAME:CEST
DTSTART:20200329T010000
END:DAYLIGHT
BEGIN:STANDARD
TZOFFSETFROM:+0200
TZOFFSETTO:+0100
TZNAME:CET
DTSTART:20201025T010000
END:STANDARD
BEGIN:DAYLIGHT
TZOFFSETFROM:+0100
TZOFFSETTO:+0200
TZNAME:CEST
DTSTART:20210328T010000
END:DAYLIGHT
BEGIN:STANDARD
TZOFFSETFROM:+0200
TZOFFSETTO:+0100
TZNAME:CET
DTSTART:20211031T010000
END:STANDARD
BEGIN:DAYLIGHT
TZOFFSETFROM:+0100
TZOFFSETTO:+0200
TZNAME:CEST
DTSTART:20220327T010000
END:DAYLIGHT
BEGIN:STANDARD
TZOFFSETFROM:+0200
TZOFFSETTO:+0100
TZNAME:CET
DTSTART:20221030T010000
END:STANDARD
END:VTIMEZONE
BEGIN:VEVENT
DTSTART;TZID=Europe/Madrid:20210807T203000
DTEND;TZID=Europe/Madrid:20210807T235500
DTSTAMP:20260423T145201
CREATED:20210628T094908Z
LAST-MODIFIED:20210719T111603Z
UID:18166-1628368200-1628380500@riba-roja.cat
SUMMARY:Caminada al Capvespre sota la pluja d'estels
DESCRIPTION:Dissabte 7 d’agost\, Caminada al Capvespre sota la pluja d’estels\, sortida a les 20.30 a la plaça de Vila. \nInformació: Durada 3.30h\, distància 10km aproximadament i dificultat baixa. \nEt pots inscriure a les oficines municipals (Telf. 977 416 003)\, per correu a figottour@gmail.com o per whatsApp al 658 389 283) \nRecomanacions: Portar sopar\, aigua\, frontal o llanterna\, calçat adequat i repel·lent de mosquits. \nSorteig d’un obsequi entre tots els participants\, gentilesa de la Unió de Comerç i Serveis de Riba-roja d’Ebre. \nRecorda que pots trobar itineraris de rutes per fer de manera individual o en grup bombolla en aquest apartat del web\, i et pots fer soci de Figot Tour aquí.
URL:https://riba-roja.cat/agenda/caminada-pluja-estels/
ATTACH;FMTTYPE=image/jpeg:https://riba-roja.cat/wp-content/uploads/2021/06/Caminada-al-capvespre-sota-la-pluja-destels.jpg
END:VEVENT
BEGIN:VEVENT
DTSTART;TZID=Europe/Madrid:20210729T223000
DTEND;TZID=Europe/Madrid:20210729T233000
DTSTAMP:20260423T145201
CREATED:20210701T175836Z
LAST-MODIFIED:20210701T175836Z
UID:18413-1627597800-1627601400@riba-roja.cat
SUMMARY:Ioga a la fresca
DESCRIPTION:Els dijous 8\,15\,22 i 29 de juliol\, Ioga a la Fresca\, de les 22.30 a les 23.30 hores a les piscines municipals. \nActivitat oberta a tothom\, es recomana portar roba còmoda\, esterilla i manteta. \nPreu 10€\, inscripcions a les oficines de l’Ajuntament.
URL:https://riba-roja.cat/agenda/ioga-a-la-fresca-4/
ATTACH;FMTTYPE=image/png:https://riba-roja.cat/wp-content/uploads/2021/07/Ioga-piscina-municipal-riba-roja.png
END:VEVENT
BEGIN:VEVENT
DTSTART;TZID=Europe/Madrid:20210724T170000
DTEND;TZID=Europe/Madrid:20210724T200000
DTSTAMP:20260423T145201
CREATED:20210701T182549Z
LAST-MODIFIED:20210701T182549Z
UID:18417-1627146000-1627156800@riba-roja.cat
SUMMARY:Natació Non Stop
DESCRIPTION:Dissabte 24 de juliol\, 3 hores de natació Non Stop\, solidària amb la Fundació per l’Esclerosi Múltiple\, de 17 a 20 hores a les piscines municipals. \nPreu: 5 euros adults i 2 euros infants. 1 euro de cada inscripcions va a la Fundació per l’Esclerosi Múltiple. Inscripcions a l’Ajuntament o el mateix dia a la piscina. \nEn acabar Pasta Party!
URL:https://riba-roja.cat/agenda/natacio-non-stop/
ATTACH;FMTTYPE=image/png:https://riba-roja.cat/wp-content/uploads/2021/07/non-stop-riba-roja.png
END:VEVENT
BEGIN:VEVENT
DTSTART;TZID=Europe/Madrid:20210722T223000
DTEND;TZID=Europe/Madrid:20210722T233000
DTSTAMP:20260423T145201
CREATED:20210701T175746Z
LAST-MODIFIED:20210701T175746Z
UID:18410-1626993000-1626996600@riba-roja.cat
SUMMARY:Ioga a la fresca
DESCRIPTION:Els dijous 8\,15\,22 i 29 de juliol\, Ioga a la Fresca\, de les 22.30 a les 23.30 hores a les piscines municipals. \nActivitat oberta a tothom\, es recomana portar roba còmoda\, esterilla i manteta. \nPreu 10€\, inscripcions a les oficines de l’Ajuntament.
URL:https://riba-roja.cat/agenda/ioga-a-la-fresca-3/
ATTACH;FMTTYPE=image/png:https://riba-roja.cat/wp-content/uploads/2021/07/Ioga-piscina-municipal-riba-roja.png
END:VEVENT
BEGIN:VEVENT
DTSTART;TZID=Europe/Madrid:20210715T223000
DTEND;TZID=Europe/Madrid:20210715T233000
DTSTAMP:20260423T145201
CREATED:20210701T175645Z
LAST-MODIFIED:20210701T175645Z
UID:18407-1626388200-1626391800@riba-roja.cat
SUMMARY:Ioga a la fresca
DESCRIPTION:Els dijous 8\,15\,22 i 29 de juliol\, Ioga a la Fresca\, de les 22.30 a les 23.30 hores a les piscines municipals. \nActivitat oberta a tothom\, es recomana portar roba còmoda\, esterilla i manteta. \nPreu 10€\, inscripcions a les oficines de l’Ajuntament.
URL:https://riba-roja.cat/agenda/ioga-a-la-fresca-2/
ATTACH;FMTTYPE=image/png:https://riba-roja.cat/wp-content/uploads/2021/07/Ioga-piscina-municipal-riba-roja.png
END:VEVENT
BEGIN:VEVENT
DTSTART;VALUE=DATE:20210712
DTEND;VALUE=DATE:20210807
DTSTAMP:20260423T145201
CREATED:20210628T094500Z
LAST-MODIFIED:20210701T171052Z
UID:18163-1626048000-1628294399@riba-roja.cat
SUMMARY:Casal 2021
DESCRIPTION:Un any més\, l’Àrea de Joventut\, Esports\, Educació i Comunicació de l’Ajuntament de Riba-roja d’Ebre organitza el Casal d’Estiu per a nens i nenes d’entre P-3 i 6è curs de primària. El casal s’inicia el dilluns 12 de juliol i conclou el divendres 6 d’agost\, i està organitzat per quinzenes. L’horari és de dilluns a divendres de 9 a 13 hores del mati. El casal\, amb seu a l’Escola Sant Agustí\, es realitzarà en 4 punts diferents: Escola Sant Agustí\, Parc Mercè Rodoreda\, Pavelló municipal i Aula d’art municipal. \nL’eix conductor del Casal 2021 serà “VIATGEM”. Hi haurà 4 grans eixos: arts\, jocs\, esport i explorem. Dins de cada matèria es desenvoluparan diferents activitats. Per tal de tenir el màxim de comunicació amb les famílies\, enguany obrirem 4 grups de Whatsapp\, un per cada grup bombolla\, i cada dia us explicarem les novetats i els canvis que puguin succeir. \nMés informació aquí.
URL:https://riba-roja.cat/agenda/casal-2021/
ATTACH;FMTTYPE=image/png:https://riba-roja.cat/wp-content/uploads/2021/05/Reunio-informativa-families-casal-estiu.png
END:VEVENT
BEGIN:VEVENT
DTSTART;TZID=Europe/Madrid:20210711T080000
DTEND;TZID=Europe/Madrid:20210711T120000
DTSTAMP:20260423T145201
CREATED:20210701T185247Z
LAST-MODIFIED:20210703T090709Z
UID:18425-1625990400-1626004800@riba-roja.cat
SUMMARY:9a Jornada de Neteja
DESCRIPTION:Diumenge 11 de juliol\, 9a Jornada de Neteja-Zona d’esbarjo de les barbacoes-clean up day. Punt de trobada\, a les 8 hores\, a la Plaça dels Jubilats. \nInclou esmorzar a la brasa. Sorteig d’un pernil entre tots els participants. \nCal apuntar-se al 658 389 283 o a figottour@gmail.com
URL:https://riba-roja.cat/agenda/9a-jornada-de-neteja/
ATTACH;FMTTYPE=image/png:https://riba-roja.cat/wp-content/uploads/2021/07/clean-up-day-riba-roja.png
END:VEVENT
BEGIN:VEVENT
DTSTART;TZID=Europe/Madrid:20210708T223000
DTEND;TZID=Europe/Madrid:20210708T233000
DTSTAMP:20260423T145201
CREATED:20210701T175532Z
LAST-MODIFIED:20210701T175532Z
UID:18401-1625783400-1625787000@riba-roja.cat
SUMMARY:Ioga a la fresca
DESCRIPTION:Els dijous 8\,15\,22 i 29 de juliol\, Ioga a la Fresca\, de les 22.30 a les 23.30 hores a les piscines municipals. \nActivitat oberta a tothom\, es recomana portar roba còmoda\, esterilla i manteta. \nPreu 10€\, inscripcions a les oficines de l’Ajuntament.
URL:https://riba-roja.cat/agenda/ioga-a-la-fresca/
ATTACH;FMTTYPE=image/png:https://riba-roja.cat/wp-content/uploads/2021/07/Ioga-piscina-municipal-riba-roja.png
END:VEVENT
BEGIN:VEVENT
DTSTART;VALUE=DATE:20210705
DTEND;VALUE=DATE:20210814
DTSTAMP:20260423T145201
CREATED:20210701T174902Z
LAST-MODIFIED:20210816T055323Z
UID:18396-1625443200-1628899199@riba-roja.cat
SUMMARY:Activitats aquàtiques piscines municipals 2021
DESCRIPTION:Del 5 al 13 d’agost\, Activitats aquàtiques\, a les piscines municipals: \nNatació adults del 5 de juliol al 13 d’agost\nNatació infantil del 5 al 30 de juliol\n3h de Natació Non Stop\, solidària amb la Fundació per l’Esclerosi Múltiple\nAquagym del 5 de juliol al 13 d’agost \nInscripcions i més informació a les oficines de l’Ajuntament.
URL:https://riba-roja.cat/agenda/activitats-aquatiques-picines-municipals-2021/
ATTACH;FMTTYPE=image/png:https://riba-roja.cat/wp-content/uploads/2021/07/activitats-aquatiques-piscina.png
END:VEVENT
BEGIN:VEVENT
DTSTART;TZID=Europe/Madrid:20210623T210000
DTEND;TZID=Europe/Madrid:20210624T010000
DTSTAMP:20260423T145201
CREATED:20210615T080756Z
LAST-MODIFIED:20210615T080756Z
UID:18045-1624482000-1624496400@riba-roja.cat
SUMMARY:Revetlla de Sant Joan 2021
DESCRIPTION:Dimecres 23 de juny\, Revetlla de Sant Joan. A partir de les 21 hores arribada de la flama del canigó a la casa de la Vila i\, seguidament\, encesa de la foguera al camp de futbol. \nEs repartirà coca i mistel·la a tothom.
URL:https://riba-roja.cat/agenda/revetlla-de-sant-joan-2021/
ATTACH;FMTTYPE=image/jpeg:https://riba-roja.cat/wp-content/uploads/2021/06/Revetlla-Sant-Joan-2021.jpeg
END:VEVENT
BEGIN:VEVENT
DTSTART;TZID=Europe/Madrid:20210618T190000
DTEND;TZID=Europe/Madrid:20210618T203000
DTSTAMP:20260423T145201
CREATED:20210615T083124Z
LAST-MODIFIED:20210615T083124Z
UID:18049-1624042800-1624048200@riba-roja.cat
SUMMARY:Presentació Pla Estratègic Forns d'oli de Ginebre
DESCRIPTION:Divendres 18 de juny\, Presentació del «Pla Estratègic com a eina de salvaguarda i dinamització del patrimoni dels forns d’oli de ginebre de Riba-roja d’Ebre»\, a càrrec d’Íngrid Bertomeu Cabrera\, i Maite Hernández Sahugún\, antropòlogues d’Ínclita Cultura. A les 19 hores\, a la Sala d’Actes de l’Ajuntament de Riba-roja d’Ebre. \nOrganitza: Amics de Riba-roja d’Ebre\, Ajuntament de Riba-roja d’Ebre\, Institut Ramon Muntaner i Departament de Cultura de la Generalitat de Catalunya. \nAquest acte forma part del Programa Viva\, una iniciativa de l’Observatori de Patrimoni Etnològic i Immaterial que té com a objectiu comunicar els resultats de les recerques científiques sobre temes etnològics que es fan a Catalunya. Cultura Viva retrona així a les comunitats que han estat objecte d’estudi els coneixements que elles mateixes han contribuït a crear.
URL:https://riba-roja.cat/agenda/presentacio-pla-estrategic-forns-doli-de-ginebre/
ATTACH;FMTTYPE=image/png:https://riba-roja.cat/wp-content/uploads/2021/06/Riba-roja-Cultura-Viva-Forn-doli-ginebre.png
END:VEVENT
BEGIN:VEVENT
DTSTART;VALUE=DATE:20210616
DTEND;VALUE=DATE:20210623
DTSTAMP:20260423T145201
CREATED:20210413T074219Z
LAST-MODIFIED:20210413T074358Z
UID:17750-1623801600-1624406399@riba-roja.cat
SUMMARY:Període de matriculació per la Llar d'Infants Municipal Els Figotets
DESCRIPTION:Cartell amb tota la informació sobre preincripcions. \nDel 16 al 22 de juny període de matriculació per la Llar d’Infants Municipal Els Figotets. \nPots demanar la teva cita o sol·licitar informació a través del telèfon 977 09 51 55 o per correu electrònic: llimelsfigotets@gmail.com
URL:https://riba-roja.cat/agenda/periode-de-matriculacio-per-la-llar-dinfants-municipal-els-figotets/
ATTACH;FMTTYPE=image/png:https://riba-roja.cat/wp-content/uploads/2021/04/presincripcio-llar-dinfants-riba-roja.png
END:VEVENT
BEGIN:VEVENT
DTSTART;VALUE=DATE:20210614
DTEND;VALUE=DATE:20210615
DTSTAMP:20260423T145201
CREATED:20210607T092311Z
LAST-MODIFIED:20210607T092512Z
UID:18040-1623628800-1623715199@riba-roja.cat
SUMMARY:Inscripció Casal d'Estiu Som Riu 2021
DESCRIPTION:Fins al dilluns 14 de juny està oberta la inscripció al casal d’estiu que se celebrarà a Riba-roja d’Ebre durant el mes de juliol\, per quinzenes\, per a nens de P3 a 6è de Primària. També per a les colònies que tindran lloc a Sebes el 28 i 29 de juliol. \nLes famílies que vulguin portar els seus fills trobaran tota la informació al web municipal: riba-roja.cat/casal-destiu-2021/ \nS’ha de presentar la documentació i omplir el formulari d’inscripció a través de la pàgina web. Organitza la regidoria d’Educació de l’Ajuntament de Riba-roja d’Ebre.
URL:https://riba-roja.cat/agenda/inscripcio-casal-destiu-som-riu-2021/
ATTACH;FMTTYPE=image/jpeg:https://riba-roja.cat/wp-content/uploads/2021/05/Casal-dEstiu-Som·riu.jpg
END:VEVENT
BEGIN:VEVENT
DTSTART;TZID=Europe/Madrid:20210604T183000
DTEND;TZID=Europe/Madrid:20210604T193000
DTSTAMP:20260423T145201
CREATED:20210528T123459Z
LAST-MODIFIED:20210528T123529Z
UID:18018-1622831400-1622835000@riba-roja.cat
SUMMARY:Reunió informativa Casal d'Estiu 2021
DESCRIPTION:Divendres 4 de juny\, Reunió informativa Casal d’Estiu 2021\, a les 18.30 hores a la Sala de Plens de l’Ajuntament i via online en aquest enllaç.
URL:https://riba-roja.cat/agenda/reunio-informativa-casal-destiu-2021/
ATTACH;FMTTYPE=image/png:https://riba-roja.cat/wp-content/uploads/2021/05/Reunio-informativa-families-casal-estiu.png
END:VEVENT
BEGIN:VEVENT
DTSTART;VALUE=DATE:20210510
DTEND;VALUE=DATE:20210522
DTSTAMP:20260423T145201
CREATED:20210413T073814Z
LAST-MODIFIED:20210413T073814Z
UID:17747-1620604800-1621641599@riba-roja.cat
SUMMARY:Preinscripció Llar d'Infants Municipals Els Figotets
DESCRIPTION:Cartell amb tota la informació sobre preincripcions. \nDel 10 al 21 de maig període de presentació de sol·licituds preinscripció  Llar d’Infants els Figotets per al curs 2021-2022. \nDel 3 al 7 de maig\, jornades de portes obertes a la Llar d’Infants Municipals Els Figotets\, amb cita prèvia partir de les 17.30 hores. \nDel 16 al 22 de juny període de matriculació. \nPots demanar la teva cita o sol·licitar informació a través del telèfon 977 09 51 55 o per correu electrònic: llimelsfigotets@gmail.com
URL:https://riba-roja.cat/agenda/preinscripcio-llar-dinfants-municipals-els-figotets/
ATTACH;FMTTYPE=image/png:https://riba-roja.cat/wp-content/uploads/2021/04/presincripcio-llar-dinfants-riba-roja.png
END:VEVENT
BEGIN:VEVENT
DTSTART;VALUE=DATE:20210503
DTEND;VALUE=DATE:20210508
DTSTAMP:20260423T145201
CREATED:20210413T073419Z
LAST-MODIFIED:20210413T074446Z
UID:17741-1620000000-1620431999@riba-roja.cat
SUMMARY:Jornades de portes obertes Llar d'Infants Els Figotets
DESCRIPTION:Cartell amb tota la informació sobre preincripcions. \nPreinscripció Llar d’Infants els Figotets per al curs 2021-2022: \nDel 3 al 7 de maig\, jornades de portes obertes a la Llar d’Infants Municipal Els Figotets\, amb cita prèvia partir de les 17.30 hores. \nDel 10 al 21 de maig període de presentació de sol·licituds \nDel 16 al 22 de juny període de matriculació. \nPots demanar la teva cita o sol·licitar informació a través del telèfon 977 09 51 55 o per correu electrònic: llimelsfigotets@gmail.com
URL:https://riba-roja.cat/agenda/jornades-de-portes-obertes-llar-dinfants-els-figotets/
ATTACH;FMTTYPE=image/png:https://riba-roja.cat/wp-content/uploads/2021/04/presincripcio-llar-dinfants-riba-roja.png
END:VEVENT
BEGIN:VEVENT
DTSTART;TZID=Europe/Madrid:20210501T204500
DTEND;TZID=Europe/Madrid:20210501T220000
DTSTAMP:20260423T145201
CREATED:20210426T084329Z
LAST-MODIFIED:20210426T084329Z
UID:17928-1619901900-1619906400@riba-roja.cat
SUMMARY:Ebre Lumen Festival
DESCRIPTION:Riba-roja d’Ebre acull l’1 de maig un dels espectacles de l’Ebre Lumen Festival\, el primer festival de mapping a la natura que se celebra a la Ribera d’Ebre\, i en el qual participen dotze municipis de la comarca. Es tracta d’una proposta audiovisual innovadora per donar a conèixer el patrimoni natural i fluvial de l’Ebre\, mitjançant la projecció de llum\, música i efectes 3D en façanes i entorns naturals. \nA Riba-roja\, l’espectacle tindrà lloc a la Roca de la Pena i comptarà amb tres o quatre passis\, en funció del nombre d’inscrits i les restriccions de la pandèmia. L’aforament de cada passi és de 45 persones\, i cal fer la inscripció a través del web municipal. Cada passi té una durada de 15 minuts\, en l’horari entre les 21 i les 21:45 hores. \nPots fer la inscripció aquí.
URL:https://riba-roja.cat/agenda/ebre-lumen-festival/
ATTACH;FMTTYPE=image/png:https://riba-roja.cat/wp-content/uploads/2021/04/Ebre-Lumen-Riba-roja-debrepng.png
END:VEVENT
BEGIN:VEVENT
DTSTART;VALUE=DATE:20210501
DTEND;VALUE=DATE:20210502
DTSTAMP:20260423T145201
CREATED:20210426T131358Z
LAST-MODIFIED:20210426T134305Z
UID:17931-1619827200-1619913599@riba-roja.cat
SUMMARY:Concurs de clotxes i paelles virtual
DESCRIPTION:L’Associació de dones i l’Ajuntament de Riba-roja organitzen el segon concurs de clotxes i paelles virtual en motiu de l’1 de maig\, Festa de la Clotxa. \nPer participar-hi\, heu d’enviar una foto de la vostra clotxa/paella durant el migdia i la tarda de l’1 de maig al 679 799 719. \nL’endemà\, es farà el sorteig en directe per l’instagram de l’Ajuntament dels lots de productes locals entre tots els participants. \n 
URL:https://riba-roja.cat/agenda/concurs-de-clotxes-i-paelles-virtual/
ATTACH;FMTTYPE=image/jpeg:https://riba-roja.cat/wp-content/uploads/2021/04/Concurs-Paelles-festa-clotxa.jpeg
END:VEVENT
BEGIN:VEVENT
DTSTART;TZID=Europe/Madrid:20210429T110000
DTEND;TZID=Europe/Madrid:20210429T120000
DTSTAMP:20260423T145201
CREATED:20210428T082411Z
LAST-MODIFIED:20210428T095241Z
UID:17938-1619694000-1619697600@riba-roja.cat
SUMMARY:Xerrada sobre drogodependència
DESCRIPTION:Dijous 29 d’abril\, Xerrada sobre la drogodependència a càrrec d’Àlex Florensa\, a les 11 hores a la plaça dels Jubilats. \nLa xerrada forma part del TransEinesCat\, la ruta que recorre tot Catalunya per conscienciar sobre les drogues i que aquest any celebra la seva 3a edició. \n 
URL:https://riba-roja.cat/agenda/xerrada-sobre-drogodependencia/
ATTACH;FMTTYPE=image/png:https://riba-roja.cat/wp-content/uploads/2021/04/Trans-eines-cat.png
END:VEVENT
BEGIN:VEVENT
DTSTART;TZID=Europe/Madrid:20210424T190000
DTEND;TZID=Europe/Madrid:20210424T203000
DTSTAMP:20260423T145201
CREATED:20210414T112523Z
LAST-MODIFIED:20210415T075831Z
UID:17816-1619290800-1619296200@riba-roja.cat
SUMMARY:Concert de Tarda i Xou de màgia
DESCRIPTION:Cartell amb tots els actes de Sant Jordi. \nDissabte 24 d’abril\, Concert de Tarda i Xou de màgia a càrrec de l’Orquesta Mediterrània\, a les 19 hores a la Pista d’Estiu de la Societat. \nCal inscripció prèvia\, ja que les places són limitades (150 places). Et pots inscriure aquí. \nUs convidem a guarnir els balcons durant tot el cap de setmana amb les roses de Sant Jordi com vam fer l’any passat!
URL:https://riba-roja.cat/agenda/concert-de-tarda-i-xou-de-magia/
ATTACH;FMTTYPE=image/png:https://riba-roja.cat/wp-content/uploads/2021/04/Sant-Jordi-2021-riba-roja.png
END:VEVENT
BEGIN:VEVENT
DTSTART;TZID=Europe/Madrid:20210424T123000
DTEND;TZID=Europe/Madrid:20210424T133000
DTSTAMP:20260423T145201
CREATED:20210414T110859Z
LAST-MODIFIED:20210414T110859Z
UID:17803-1619267400-1619271000@riba-roja.cat
SUMMARY:Recital de poesia Homenatge a Felícia Fuster
DESCRIPTION:Cartell amb tots els actes de Sant Jordi. \nDissabte 24 d’abril\, Recital de poesia Homenatge a Felícia Fuster a càrrec de Mª José Franquet Àlvarez\, a les 12.30 a la Pista d’estiu de la Societat. \nUs convidem a guarnir els balcons durant tot el cap de setmana amb les roses de Sant Jordi com vam fer l’any passat!
URL:https://riba-roja.cat/agenda/recital-de-poesia-homenatge-a-felicia-fuster/
ATTACH;FMTTYPE=image/png:https://riba-roja.cat/wp-content/uploads/2021/04/Sant-Jordi-2021-riba-roja.png
END:VEVENT
BEGIN:VEVENT
DTSTART;TZID=Europe/Madrid:20210424T113000
DTEND;TZID=Europe/Madrid:20210424T123000
DTSTAMP:20260423T145201
CREATED:20210414T110409Z
LAST-MODIFIED:20210414T110424Z
UID:17800-1619263800-1619267400@riba-roja.cat
SUMMARY:Conta-contes multilingüe
DESCRIPTION:Cartell amb tots els actes de Sant Jordi. \nDissabte 24 d’abril\, Conta-contes multilingüe a càrrec de les famílies de l’Escola Sant Agustí\, a partir de les 11.30 hores a la Pista d’Estiu de la Societat. \nEn acabar intercanvi de contes de segona mà. Porta els teus i emporat-te’n de nous! \nUs convidem a guarnir els balcons durant tot el cap de setmana amb les roses de Sant Jordi com vam fer l’any passat!
URL:https://riba-roja.cat/agenda/conta-contes-multilingue/
ATTACH;FMTTYPE=image/png:https://riba-roja.cat/wp-content/uploads/2021/04/Sant-Jordi-2021-riba-roja.png
END:VEVENT
BEGIN:VEVENT
DTSTART;TZID=Europe/Madrid:20210424T103000
DTEND;TZID=Europe/Madrid:20210424T113000
DTSTAMP:20260423T145201
CREATED:20210414T112257Z
LAST-MODIFIED:20210415T075858Z
UID:17813-1619260200-1619263800@riba-roja.cat
SUMMARY:Taller de punts de llibres
DESCRIPTION:Cartell amb tots els actes de Sant Jordi. \nDissabte 24 d’abril\, Taller de creació de punts de llibre florals a càrrec de Roser Gay\, a les 10.30 hores a la Pista d’Estiu de la Societat. \nEn aquest taller farem punts de llibre amb pètals i fulles naturals que haurem recollit abans. Cal que tothom vingui amb un petit pom de flors que hagin estat assecades prèviament. \nAquest taller és per a totes les edats\, però els menors de 6 anys han de venir acompanyats\, ja que les places són limitades (50 places). Et pots inscriure aquí. \nUs convidem a guarnir els balcons durant tot el cap de setmana amb les roses de Sant Jordi com vam fer l’any passat!
URL:https://riba-roja.cat/agenda/taller-de-punts-de-llibres/
ATTACH;FMTTYPE=image/png:https://riba-roja.cat/wp-content/uploads/2021/04/Sant-Jordi-2021-riba-roja.png
END:VEVENT
BEGIN:VEVENT
DTSTART;TZID=Europe/Madrid:20210423T180000
DTEND;TZID=Europe/Madrid:20210423T193000
DTSTAMP:20260423T145201
CREATED:20210414T111733Z
LAST-MODIFIED:20210415T075930Z
UID:17810-1619200800-1619206200@riba-roja.cat
SUMMARY:Taller de lettering
DESCRIPTION:Cartell amb tots els actes de Sant Jordi. \nDivendres 23 d’abril\, Taller de lettering a càrrec d’Adriana Monclús\, a les 18 hores a la Sala de Plens\, segona planta de l’Ajuntament. \nEn la primera part aprendrem les nocions bàsiques del fals lettering\, i en la segona part crearem una làmina original amb temàtica de Sant Jordi. \nAquest taller és a partir de 10 anys i cal inscripció prèvia\, ja que les places són limitades (15 places). Et pots inscriure aquí. \nUs convidem a guarnir els balcons durant tot el cap de setmana amb les roses de Sant Jordi com vam fer l’any passat!
URL:https://riba-roja.cat/agenda/taller-de-lettering/
ATTACH;FMTTYPE=image/png:https://riba-roja.cat/wp-content/uploads/2021/04/Sant-Jordi-2021-riba-roja.png
END:VEVENT
BEGIN:VEVENT
DTSTART;TZID=Europe/Madrid:20210423T120000
DTEND;TZID=Europe/Madrid:20210423T130000
DTSTAMP:20260423T145201
CREATED:20210414T112808Z
LAST-MODIFIED:20210414T112808Z
UID:17819-1619179200-1619182800@riba-roja.cat
SUMMARY:Música catalana per megafonia
DESCRIPTION:Cartell amb tots els actes de Sant Jordi. \nDivendres 23 d’abril a partir de les 12 hores\, Música catalana per megafonia municipal per amenitzar la Diada de Sant Jordi \nUs convidem a guarnir els balcons durant tot el cap de setmana amb les roses de Sant Jordi com vam fer l’any passat!
URL:https://riba-roja.cat/agenda/musica-catalana-per-megafonia/
ATTACH;FMTTYPE=image/png:https://riba-roja.cat/wp-content/uploads/2021/04/Sant-Jordi-2021-riba-roja.png
END:VEVENT
BEGIN:VEVENT
DTSTART;VALUE=DATE:20210423
DTEND;VALUE=DATE:20210426
DTSTAMP:20260423T145201
CREATED:20210414T105940Z
LAST-MODIFIED:20210414T105940Z
UID:17797-1619136000-1619395199@riba-roja.cat
SUMMARY:Exposició d'Art Sant Jordi
DESCRIPTION:Cartell amb tots els actes de Sant Jordi. \nDurant tot el cap de setmana de Sant Jordi\, Exposició d’Art als aparadors dels comerços\, a càrrec dels infants de primària de l’Escola Sant Agustí. \nUs convidem a guarnir els balcons durant tot el cap de setmana amb les roses de Sant Jordi com vam fer l’any passat!
URL:https://riba-roja.cat/agenda/exposicio-dart-sant-jordi/
ATTACH;FMTTYPE=image/png:https://riba-roja.cat/wp-content/uploads/2021/04/Sant-Jordi-2021-riba-roja.png
END:VEVENT
BEGIN:VEVENT
DTSTART;TZID=Europe/Madrid:20210314T123000
DTEND;TZID=Europe/Madrid:20210314T133000
DTSTAMP:20260423T145201
CREATED:20210310T181629Z
LAST-MODIFIED:20210310T181836Z
UID:17509-1615725000-1615728600@riba-roja.cat
SUMMARY:Vemut de Santa Madrona als balcons
DESCRIPTION:Enguany\, després de la missa que es celebrarà a la Parròquia Sant Bartomeu a les 11h i la posterior venda de coques a la plaça de l’església a les 11.45h\, commemorarem el dia de la nostra patrona Santa Madrona amb un vermut als balcons. \nDiumenge 14 de març\, Vermut de Santa Madrona als balcons\, a partir de les 12.30 hores amb música per la megafonia local. \nPots compartir la teva foto a Instagram etiquetant @ajuntamentribarojadebre
URL:https://riba-roja.cat/agenda/vemut-de-santa-madrona-als-balcons/
ATTACH;FMTTYPE=image/png:https://riba-roja.cat/wp-content/uploads/2021/03/VERMUT-DE-SANTA-MADRONA-ALS-BALCONS.png
END:VEVENT
BEGIN:VEVENT
DTSTART;TZID=Europe/Madrid:20210213T180000
DTEND;TZID=Europe/Madrid:20210213T193000
DTSTAMP:20260423T145201
CREATED:20210209T085741Z
LAST-MODIFIED:20210214T095405Z
UID:17038-1613239200-1613244600@riba-roja.cat
SUMMARY:Carnaval 2021: Megafonia carnavalera i concurs de disfresses en línia
DESCRIPTION:Clica i visualitza el cartell del  Carnaval 2021 a Riba-roja d’Ebre. \nDissabte 13 de febrer\, Concurs de disfresses en línia\, aquest any amb cinc categories: al millor grup bombolla\, a la disfressa més reciclada; a la més esbojarrada; a la més cuqui; i a la més sorprenent. \nPer participar-hi\, s’han d’enviar les fotografies posant amb la disfressa al telèfon 699 799 719 durant la franja horària que duri el ball de Carnaval que sonarà\, per la megafonia municipal\, des de les 6 de la tarda i fins a dos quarts de 8. \nEls guanyadors seran anunciats a les 20 hores a l’Instagram de l’Ajuntament de Riba-roja d’Ebre i pel Canal d’Ebando.
URL:https://riba-roja.cat/agenda/carnaval-2021-megafonia-carnavalera-i-concurs-de-disfresses-en-linia/
ATTACH;FMTTYPE=image/png:https://riba-roja.cat/wp-content/uploads/2021/02/Carnaval-2021-destacada.png
END:VEVENT
BEGIN:VEVENT
DTSTART;VALUE=DATE:20210212
DTEND;VALUE=DATE:20210213
DTSTAMP:20260423T145201
CREATED:20210209T084111Z
LAST-MODIFIED:20210209T100330Z
UID:17033-1613088000-1613174399@riba-roja.cat
SUMMARY:Carnaval 2021: Taller Virtual per crear la teva disfressa!
DESCRIPTION:Clica i visualitza el cartell del  Carnaval 2021 a Riba-roja d’Ebre. \nDivendres 12 de febrer\, «Taller virtual»: Videotutorial de com crear la teva disfressa amb materials reciclats»\, podreu trobar el vídeo penjat al canal YouTube de l’Ajuntament de Riba-roja d’Ebre. \n 
URL:https://riba-roja.cat/agenda/carnaval-2021-taller-virtual-per-crear-la-teva-disfressa/
ATTACH;FMTTYPE=image/png:https://riba-roja.cat/wp-content/uploads/2021/02/Carnaval-2021-destacada.png
END:VEVENT
BEGIN:VEVENT
DTSTART;VALUE=DATE:20210205
DTEND;VALUE=DATE:20210206
DTSTAMP:20260423T145201
CREATED:20210203T145513Z
LAST-MODIFIED:20210203T145513Z
UID:16865-1612483200-1612569599@riba-roja.cat
SUMMARY:Santa Agda 2021
DESCRIPTION:L’Associació de Dones de Riba-roja d’Ebre\, amb el suport de l’Ajuntament de Riba-roja d’Ebre\, organitza la 35a Festa de Santa Agda\, adaptada a la situació sanitària. \nA les 12 hores: Santa Missa en honor a Santa Agda\, aforament limitat. \nDurant tota la jornada «Repàs Virtual: 35 anys d’història»\, publicació de vídeos recopilatoris de cartells\, alcaldesses i regidores\, pregoneres\, berenars\, activitats… a través del Facebook i Instagram de l’Associació de Dones de Riba-roja d’Ebre i a la web de l’Ajuntament. \nUs animem durant tot el dia a compartir les vostres fotografies i records de Santa Agda a les Instagram amb l’etiqueta #SantaAgda2021
URL:https://riba-roja.cat/agenda/santa-agda-2021/
ATTACH;FMTTYPE=image/png:https://riba-roja.cat/wp-content/uploads/2021/02/Santa-Agda-2021-esdeveniment-1.png
END:VEVENT
END:VCALENDAR