BEGIN:VCALENDAR
VERSION:2.0
PRODID:-//Ajuntament de Riba-roja d&#039;Ebre - ECPv6.15.20//NONSGML v1.0//EN
CALSCALE:GREGORIAN
METHOD:PUBLISH
X-ORIGINAL-URL:https://riba-roja.cat
X-WR-CALDESC:Eventos para Ajuntament de Riba-roja d&#039;Ebre
REFRESH-INTERVAL;VALUE=DURATION:PT1H
X-Robots-Tag:noindex
X-PUBLISHED-TTL:PT1H
BEGIN:VTIMEZONE
TZID:Europe/Madrid
BEGIN:DAYLIGHT
TZOFFSETFROM:+0100
TZOFFSETTO:+0200
TZNAME:CEST
DTSTART:20210328T010000
END:DAYLIGHT
BEGIN:STANDARD
TZOFFSETFROM:+0200
TZOFFSETTO:+0100
TZNAME:CET
DTSTART:20211031T010000
END:STANDARD
BEGIN:DAYLIGHT
TZOFFSETFROM:+0100
TZOFFSETTO:+0200
TZNAME:CEST
DTSTART:20220327T010000
END:DAYLIGHT
BEGIN:STANDARD
TZOFFSETFROM:+0200
TZOFFSETTO:+0100
TZNAME:CET
DTSTART:20221030T010000
END:STANDARD
BEGIN:DAYLIGHT
TZOFFSETFROM:+0100
TZOFFSETTO:+0200
TZNAME:CEST
DTSTART:20230326T010000
END:DAYLIGHT
BEGIN:STANDARD
TZOFFSETFROM:+0200
TZOFFSETTO:+0100
TZNAME:CET
DTSTART:20231029T010000
END:STANDARD
END:VTIMEZONE
BEGIN:VEVENT
DTSTART;TZID=Europe/Madrid:20220827T223000
DTEND;TZID=Europe/Madrid:20220827T234500
DTSTAMP:20260422T230347
CREATED:20220803T051241Z
LAST-MODIFIED:20220803T051241Z
UID:20736-1661639400-1661643900@riba-roja.cat
SUMMARY:Cinema a la fresca
DESCRIPTION:A les 22.30h \nA la Plaça de l’església\, cinema a la fresca amb la pel·lícula “Alcarràs” de Carla Simón\, guanyadora de l’Os d’or a la Berlinale 2022. \nHa estat la primera pel·lícula de la història en llengua catalana a rebre aquest guardó en el prestigiós Festival internacional de Cinema de Berlín. \nCol·labora: Amics de Riba-roja
URL:https://riba-roja.cat/agenda/cinema-a-la-fresca/
ATTACH;FMTTYPE=image/png:https://riba-roja.cat/wp-content/uploads/2022/08/Banner_300x250.png
END:VEVENT
BEGIN:VEVENT
DTSTART;TZID=Europe/Madrid:20220827T200000
DTEND;TZID=Europe/Madrid:20220827T213000
DTSTAMP:20260422T230347
CREATED:20220803T054753Z
LAST-MODIFIED:20220803T054753Z
UID:20739-1661630400-1661635800@riba-roja.cat
SUMMARY:Motorbike Kabra Show
DESCRIPTION:A les 20h \nA la Plaça de l’església\, espectacle Motorbike Kabra Show. Un espectacle amb olor a carburant que ens posarà tensos fent-nos guadir de valent.
URL:https://riba-roja.cat/agenda/motorbike-kabra-show/
ATTACH;FMTTYPE=image/png:https://riba-roja.cat/wp-content/uploads/2022/08/Banner_300x250.png
END:VEVENT
BEGIN:VEVENT
DTSTART;TZID=Europe/Madrid:20220827T180000
DTEND;TZID=Europe/Madrid:20220827T200000
DTSTAMP:20260422T230347
CREATED:20220803T060228Z
LAST-MODIFIED:20220803T060228Z
UID:20742-1661623200-1661630400@riba-roja.cat
SUMMARY:Rua del Carnestoltes d’estiu
DESCRIPTION:A les 18:00h \nA la plaça de la Vila\, inici de la rua del Carnestoltes d’estiu\, acompanyats per la xaranga ZeBRASS. \nLes ZeBRASS és una marching band amb molt de groove\, però la seva passió cap a la música afroamericana ha fet evolucionar el seu estil cap a la música jamaicana. No volen perdre l’essència de la música de New Orleans i les improvisacions tenen un paper destacat en el seu repertori. \nEn acabar\, a la Plaça de l’església\, es repartirà aigua\, cervesa i refrescs a totes les persones disfressades.
URL:https://riba-roja.cat/agenda/rua-del-carnestoltes-destiu/
ATTACH;FMTTYPE=image/png:https://riba-roja.cat/wp-content/uploads/2022/08/Banner_300x250.png
END:VEVENT
BEGIN:VEVENT
DTSTART;TZID=Europe/Madrid:20220827T170000
DTEND;TZID=Europe/Madrid:20220827T183000
DTSTAMP:20260422T230347
CREATED:20220803T060507Z
LAST-MODIFIED:20220803T060507Z
UID:20745-1661619600-1661625000@riba-roja.cat
SUMMARY:Exhibició de billar a banda
DESCRIPTION:A les 17:00h \nA la Llar dels Jubilats\, Exhibició de billar a banda a càrrec del Sr. Armando Moreno Cortés. \nOrganitza: Associació de Jubilats
URL:https://riba-roja.cat/agenda/exhibicio-de-billar-a-banda/
ATTACH;FMTTYPE=image/png:https://riba-roja.cat/wp-content/uploads/2022/08/Banner_300x250.png
END:VEVENT
BEGIN:VEVENT
DTSTART;TZID=Europe/Madrid:20220827T110000
DTEND;TZID=Europe/Madrid:20220827T140000
DTSTAMP:20260422T230347
CREATED:20220803T060711Z
LAST-MODIFIED:20220803T060711Z
UID:20748-1661598000-1661608800@riba-roja.cat
SUMMARY:Tobogan aquàtic
DESCRIPTION:A les 11:00h fins les 14:00h \nAl carrer Calvari\, Tobogan aquàtic de 75 metres amb animació musical. Els més petits també podran gaudir d’inflables refrescants situats davant de l’antiga farmàcia. \nEs recomana portar flotador.
URL:https://riba-roja.cat/agenda/tobogan-aquatic/
ATTACH;FMTTYPE=image/png:https://riba-roja.cat/wp-content/uploads/2022/08/Banner_300x250.png
END:VEVENT
BEGIN:VEVENT
DTSTART;TZID=Europe/Madrid:20220827T100000
DTEND;TZID=Europe/Madrid:20220827T110000
DTSTAMP:20260422T230347
CREATED:20220803T060900Z
LAST-MODIFIED:20220803T085021Z
UID:20751-1661594400-1661598000@riba-roja.cat
SUMMARY:Cercavila matinal
DESCRIPTION:A les 10:00h \nCercavila matinal amb la Banda Vila de Falset i els capgrossos. \nEn totes les cercaviles\, col·labora: Associació Riba-rocks.
URL:https://riba-roja.cat/agenda/cercavila-matinal-3/
ATTACH;FMTTYPE=image/png:https://riba-roja.cat/wp-content/uploads/2022/08/Banner_300x250.png
END:VEVENT
BEGIN:VEVENT
DTSTART;TZID=Europe/Madrid:20220827T003000
DTEND;TZID=Europe/Madrid:20220827T060000
DTSTAMP:20260422T230347
CREATED:20220803T061110Z
LAST-MODIFIED:20220803T061110Z
UID:20754-1661560200-1661580000@riba-roja.cat
SUMMARY:Ball i xaranga
DESCRIPTION:A les 00:30h \nA la Pista de la Societat\, ball a càrrec de l’orquestra Saturno. \nEn acabar\, xalera assegurada amb la Xaranga La Murga i\, a continuació\, discomòbil amb MERI DJ.
URL:https://riba-roja.cat/agenda/ball-i-xaranga/
ATTACH;FMTTYPE=image/png:https://riba-roja.cat/wp-content/uploads/2022/08/Banner_300x250.png
END:VEVENT
BEGIN:VEVENT
DTSTART;TZID=Europe/Madrid:20220826T223000
DTEND;TZID=Europe/Madrid:20220826T235000
DTSTAMP:20260422T230347
CREATED:20220803T061322Z
LAST-MODIFIED:20220803T061322Z
UID:20757-1661553000-1661557800@riba-roja.cat
SUMMARY:Teatre “Entre polièster”
DESCRIPTION:A les 22:30h \nA la sala del cinema de la Societat\, obra de teatre “Entre polièster” de la Cia Atzucac. \n“Entre polièster” és una obra teatral que fa frontera amb diferents llenguatges artístics. Una escenificació de la paradoxa que ens envolta que desprèn aquell humor eloqüent que sap trobar sempre tresors en la subtilesa del dia a dia.
URL:https://riba-roja.cat/agenda/teatre-entre-poliester/
ATTACH;FMTTYPE=image/png:https://riba-roja.cat/wp-content/uploads/2022/08/Banner_300x250.png
END:VEVENT
BEGIN:VEVENT
DTSTART;TZID=Europe/Madrid:20220826T200000
DTEND;TZID=Europe/Madrid:20220826T213000
DTSTAMP:20260422T230347
CREATED:20220803T061444Z
LAST-MODIFIED:20220803T061935Z
UID:20760-1661544000-1661549400@riba-roja.cat
SUMMARY:Concert i ballada de sardanes
DESCRIPTION:A les 20:00h \nA la plaça de l’Església\, concert i ballada de sardanes amb la Cobla Reus Jove. \nCol·labora: Agrupació Sardanista
URL:https://riba-roja.cat/agenda/concert-i-ballada-de-sardanes/
ATTACH;FMTTYPE=image/png:https://riba-roja.cat/wp-content/uploads/2022/08/Banner_300x250.png
END:VEVENT
BEGIN:VEVENT
DTSTART;TZID=Europe/Madrid:20220826T173000
DTEND;TZID=Europe/Madrid:20220826T193000
DTSTAMP:20260422T230347
CREATED:20220803T061635Z
LAST-MODIFIED:20220803T062056Z
UID:20763-1661535000-1661542200@riba-roja.cat
SUMMARY:Festa del Riu
DESCRIPTION:A les 17:30h \nA les instal·lacions del Club Nàutic\, tindrà lloc la tradicional Festa del Riu amb el pal ensabonat\, la travessa del riu nedant\, la cursa de caiacs i piragües\, i la caça de síndries. \nPer berenar\, es repartirà fruita a tothom. \nLa tarda estarà amenitzada per DJ IAN fins les 22h. \nCol·labora: Club Nàutic Riba-roja i Amics del Barri Santo Domingo
URL:https://riba-roja.cat/agenda/festa-del-riu/
ATTACH;FMTTYPE=image/png:https://riba-roja.cat/wp-content/uploads/2022/08/Banner_300x250.png
END:VEVENT
BEGIN:VEVENT
DTSTART;TZID=Europe/Madrid:20220826T160000
DTEND;TZID=Europe/Madrid:20220826T180000
DTSTAMP:20260422T230347
CREATED:20220803T062614Z
LAST-MODIFIED:20220805T065101Z
UID:20773-1661529600-1661536800@riba-roja.cat
SUMMARY:Festa Aquàtica a les piscines
DESCRIPTION:A les 11h fins a les 14h i de 16h a les 18h \nA les piscines municipals\, Festa Aquàtica amb inflables d’aigua per a totes les edats.
URL:https://riba-roja.cat/agenda/festa-aquatica-2/
ATTACH;FMTTYPE=image/png:https://riba-roja.cat/wp-content/uploads/2022/08/Banner_300x250.png
END:VEVENT
BEGIN:VEVENT
DTSTART;TZID=Europe/Madrid:20220826T110000
DTEND;TZID=Europe/Madrid:20220826T140000
DTSTAMP:20260422T230347
CREATED:20220803T062432Z
LAST-MODIFIED:20220803T062432Z
UID:20770-1661511600-1661522400@riba-roja.cat
SUMMARY:Festa Aquàtica
DESCRIPTION:A les 11h fins a les 14h i de 16h a les 18h \nA les piscines municipals\, Festa Aquàtica amb inflables d’aigua per a totes les edats.
URL:https://riba-roja.cat/agenda/festa-aquatica/
ATTACH;FMTTYPE=image/png:https://riba-roja.cat/wp-content/uploads/2022/08/Banner_300x250.png
END:VEVENT
BEGIN:VEVENT
DTSTART;TZID=Europe/Madrid:20220826T100000
DTEND;TZID=Europe/Madrid:20220826T110000
DTSTAMP:20260422T230347
CREATED:20220803T062815Z
LAST-MODIFIED:20220803T084952Z
UID:20776-1661508000-1661511600@riba-roja.cat
SUMMARY:Cercavila matinal
DESCRIPTION:A les 10:00h \nCercavila matinal amb la Banda Vila de Falset i els capgrossos. \nEn totes les cercaviles\, col·labora: Associació Riba-rocks.
URL:https://riba-roja.cat/agenda/cercavila-matinal-4/
ATTACH;FMTTYPE=image/png:https://riba-roja.cat/wp-content/uploads/2022/08/Banner_300x250.png
END:VEVENT
BEGIN:VEVENT
DTSTART;TZID=Europe/Madrid:20220826T003000
DTEND;TZID=Europe/Madrid:20220826T070000
DTSTAMP:20260422T230347
CREATED:20220803T063217Z
LAST-MODIFIED:20220803T063217Z
UID:20782-1661473800-1661497200@riba-roja.cat
SUMMARY:NIT JOVE\, ball i discomòbil
DESCRIPTION:A les 00:30h \nNIT JOVE \nA la Pista de la Societat\, amb el concert del grup d’ska reusenc Terra Ferma\, que enguany s’acomiada dels escenaris després d’una trajectòria de 8 anys. \nTot seguit\, ball amb el Grup de versions Allioli que ens faran moure el cos amb la millor música del país dels últims anys. \nPer finalitzar la nit\, discomòbil amb DJ Nathan-Valls.
URL:https://riba-roja.cat/agenda/nit-jove-ball-i-discomobil/
ATTACH;FMTTYPE=image/png:https://riba-roja.cat/wp-content/uploads/2022/08/Banner_300x250.png
END:VEVENT
BEGIN:VEVENT
DTSTART;TZID=Europe/Madrid:20220825T230000
DTEND;TZID=Europe/Madrid:20220825T235900
DTSTAMP:20260422T230347
CREATED:20220803T074734Z
LAST-MODIFIED:20220803T074734Z
UID:20785-1661468400-1661471940@riba-roja.cat
SUMMARY:Concert de jazz i Jam session
DESCRIPTION:A les 23h \nA la plaça del Forn\, Concert de jazz a càrrec del grup Monty Jazz Quartet i\, seguidament\, obertura d’una Jam session amb la participació de músics locals i convidats de fora vila. \n  \nCol·labora: Amics de Riba-roja
URL:https://riba-roja.cat/agenda/concert-de-jazz-i-jam-session/
ATTACH;FMTTYPE=image/png:https://riba-roja.cat/wp-content/uploads/2022/08/Banner_300x250.png
END:VEVENT
BEGIN:VEVENT
DTSTART;TZID=Europe/Madrid:20220825T203000
DTEND;TZID=Europe/Madrid:20220825T223000
DTSTAMP:20260422T230347
CREATED:20220803T075448Z
LAST-MODIFIED:20220805T064932Z
UID:20798-1661459400-1661466600@riba-roja.cat
SUMMARY:Concert acústic 'És cosa de tres'
DESCRIPTION:A les 20.30h \nA la plaça del Forn\, concert amb el grup de versions acústiques És cosa de tres.\nL’estiu del 2021 treuen el seu primer single\, “Andròmeda”; i\, recentment\, el seu segon single “Desig”\, juntament amb una versió d’una havanera tradicional del seu poble: “Com els coloms”. \n  \n 
URL:https://riba-roja.cat/agenda/concert-acustic/
ATTACH;FMTTYPE=image/png:https://riba-roja.cat/wp-content/uploads/2022/08/Banner_300x250.png
END:VEVENT
BEGIN:VEVENT
DTSTART;TZID=Europe/Madrid:20220825T203000
DTEND;TZID=Europe/Madrid:20220825T220000
DTSTAMP:20260422T230347
CREATED:20220803T075028Z
LAST-MODIFIED:20220805T065023Z
UID:20788-1661459400-1661464800@riba-roja.cat
SUMMARY:Cata de vins i sopar de degustació
DESCRIPTION:A les 20.30h \nA la plaça del Forn\, sopar de degustació de productes locals i cata de vins del territori. \nEls tiquets es compraran in situ a cada estand. \nCol·labora: Unió de Comerciants de Riba-roja
URL:https://riba-roja.cat/agenda/sopar-degustacio-i-cata-de-vins/
ATTACH;FMTTYPE=image/png:https://riba-roja.cat/wp-content/uploads/2022/08/Banner_300x250.png
END:VEVENT
BEGIN:VEVENT
DTSTART;TZID=Europe/Madrid:20220825T193000
DTEND;TZID=Europe/Madrid:20220825T213000
DTSTAMP:20260422T230347
CREATED:20220803T075702Z
LAST-MODIFIED:20220803T075702Z
UID:20801-1661455800-1661463000@riba-roja.cat
SUMMARY:Fira artesanal
DESCRIPTION:A les 19:30h \nAl carrer Església\, obertura de la Fira artesanal de Festa Major. \nOrganitza: Escola Municipal “La Puntaire”
URL:https://riba-roja.cat/agenda/fira-artesanal/
ATTACH;FMTTYPE=image/png:https://riba-roja.cat/wp-content/uploads/2022/08/Banner_300x250.png
END:VEVENT
BEGIN:VEVENT
DTSTART;TZID=Europe/Madrid:20220825T183000
DTEND;TZID=Europe/Madrid:20220825T200000
DTSTAMP:20260422T230347
CREATED:20220803T075913Z
LAST-MODIFIED:20220805T064821Z
UID:20804-1661452200-1661457600@riba-roja.cat
SUMMARY:Recital del tenor José Antonio Aznar
DESCRIPTION:A les 18:30h  \nA la plaça dels Jubilats\, recital “Cançons de sempre en clau de felicitat” a càrrec del Tenor José Antonio Aznar. \nCol·labora: Junta de la Llar dels Jubilats
URL:https://riba-roja.cat/agenda/recital-del-temor-jose-antonio-aznar/
ATTACH;FMTTYPE=image/png:https://riba-roja.cat/wp-content/uploads/2022/08/Banner_300x250.png
END:VEVENT
BEGIN:VEVENT
DTSTART;TZID=Europe/Madrid:20220825T180000
DTEND;TZID=Europe/Madrid:20220825T200000
DTSTAMP:20260422T230347
CREATED:20220803T080114Z
LAST-MODIFIED:20220803T080114Z
UID:20807-1661450400-1661457600@riba-roja.cat
SUMMARY:Circuit d’inflables i Jocs Gegantins
DESCRIPTION:A les 18:00h \nAl carrer Reus\, Circuit d’inflables i Jocs Gegantins perquè els infants gaudeixin bestialment de la tarda. \nCol·labora: Associació de Joves La Txavalada
URL:https://riba-roja.cat/agenda/circuit-dinflables-i-jocs-gegantins/
ATTACH;FMTTYPE=image/png:https://riba-roja.cat/wp-content/uploads/2022/08/Banner_300x250.png
END:VEVENT
BEGIN:VEVENT
DTSTART;TZID=Europe/Madrid:20220825T110000
DTEND;TZID=Europe/Madrid:20220825T130000
DTSTAMP:20260422T230347
CREATED:20220803T080327Z
LAST-MODIFIED:20220803T080327Z
UID:20810-1661425200-1661432400@riba-roja.cat
SUMMARY:Bicicletada popular
DESCRIPTION:A les 11:00h \nBicicletada popular per a totes les edats. Sortida des de la Plaça de la Vila. \nOrganitza: Club Ciclista Riba-roja
URL:https://riba-roja.cat/agenda/bicicletada-popular-2/
ATTACH;FMTTYPE=image/png:https://riba-roja.cat/wp-content/uploads/2022/08/Banner_300x250.png
END:VEVENT
BEGIN:VEVENT
DTSTART;TZID=Europe/Madrid:20220825T103000
DTEND;TZID=Europe/Madrid:20220825T113000
DTSTAMP:20260422T230347
CREATED:20220803T080608Z
LAST-MODIFIED:20220803T080608Z
UID:20813-1661423400-1661427000@riba-roja.cat
SUMMARY:Missa en honor a Santa Madrona
DESCRIPTION:Santa Madrona\, Copatrona de Riba-roja d’Ebre \nA les 10:30h. \nMissa solemne.
URL:https://riba-roja.cat/agenda/missa-en-honor-a-santa-madrona/
ATTACH;FMTTYPE=image/png:https://riba-roja.cat/wp-content/uploads/2022/08/Banner_300x250.png
END:VEVENT
BEGIN:VEVENT
DTSTART;TZID=Europe/Madrid:20220825T100000
DTEND;TZID=Europe/Madrid:20220825T110000
DTSTAMP:20260422T230347
CREATED:20220803T080824Z
LAST-MODIFIED:20220803T084926Z
UID:20816-1661421600-1661425200@riba-roja.cat
SUMMARY:Cercavila matinal
DESCRIPTION:Festivitat de Santa Madrona\, copatrona de Riba-roja d’Ebre \nA les 10:00h  \nCercavila matinal amb la Banda Vila de Falset i els capgrossos. \nEn totes les cercaviles\, col·labora: Associació Riba-rocks.
URL:https://riba-roja.cat/agenda/cercavila-matinal-5/
ATTACH;FMTTYPE=image/png:https://riba-roja.cat/wp-content/uploads/2022/08/Banner_300x250.png
END:VEVENT
BEGIN:VEVENT
DTSTART;TZID=Europe/Madrid:20220825T003000
DTEND;TZID=Europe/Madrid:20220825T070000
DTSTAMP:20260422T230347
CREATED:20220803T081437Z
LAST-MODIFIED:20220805T075611Z
UID:20819-1661387400-1661410800@riba-roja.cat
SUMMARY:Ball\, xaranga i discomòbil
DESCRIPTION:A les 00:30h \nA la Pista d’estiu de la Societat\, ball a càrrec de l’Orquestra Welcome Band. \nEn acabar el ball\, xaranga amb la Xaranga Tarorata pels carrers del poble; i a continuació\, a la Pista de la Societat\, discomòbil amb La combi completa. \n 
URL:https://riba-roja.cat/agenda/ball-xaranga-i-discomobil-2/
ATTACH;FMTTYPE=image/png:https://riba-roja.cat/wp-content/uploads/2022/08/Banner_300x250.png
END:VEVENT
BEGIN:VEVENT
DTSTART;TZID=Europe/Madrid:20220824T230000
DTEND;TZID=Europe/Madrid:20220824T235900
DTSTAMP:20260422T230347
CREATED:20220803T081637Z
LAST-MODIFIED:20220803T081637Z
UID:20824-1661382000-1661385540@riba-roja.cat
SUMMARY:Ball de Coques i ball de Plaça
DESCRIPTION:A les 22:30h \nConcentració a la plaça de la Vila per baixar a la plaça de l’Església per ballar el tradicional Ball de Coques. \nEs repartirà coca i mistela a tothom. \nTot seguit\, la Banda Vila de Falset ens amenitzarà amb el tradicional Ball de Plaça. \nCol·labora: Grup de Jotes de Riba-roja i Joventut Esportiva Riba-roja
URL:https://riba-roja.cat/agenda/ball-de-coques-i-ball-de-placa/
ATTACH;FMTTYPE=image/png:https://riba-roja.cat/wp-content/uploads/2022/08/Banner_300x250.png
END:VEVENT
BEGIN:VEVENT
DTSTART;TZID=Europe/Madrid:20220824T200000
DTEND;TZID=Europe/Madrid:20220824T213000
DTSTAMP:20260422T230347
CREATED:20220803T081815Z
LAST-MODIFIED:20220803T081815Z
UID:20827-1661371200-1661376600@riba-roja.cat
SUMMARY:Concert de tarda
DESCRIPTION:A les 20:00h \nA la Pista d’estiu de la Societat\, concert de tarda amb l’orquestra Welcome Band. \nEntrada gratuïta.
URL:https://riba-roja.cat/agenda/concert-de-tarda/
ATTACH;FMTTYPE=image/png:https://riba-roja.cat/wp-content/uploads/2022/08/Banner_300x250.png
END:VEVENT
BEGIN:VEVENT
DTSTART;TZID=Europe/Madrid:20220824T190000
DTEND;TZID=Europe/Madrid:20220824T203000
DTSTAMP:20260422T230347
CREATED:20220803T082033Z
LAST-MODIFIED:20220803T082033Z
UID:20830-1661367600-1661373000@riba-roja.cat
SUMMARY:Futbol sala: Joventut Esportiva - Veterans de Riba-roja
DESCRIPTION:A les 19:00h \nAl Pavelló Municipal d’esports\, el tradicional partit de Fútbol sala amb els equips\nJ.E. Riba-roja d’Ebre i Veterans Riba-roja d’Ebre. \nOrganitza: Joventut Esportiva Riba-roja d’Ebre
URL:https://riba-roja.cat/agenda/futbol-sala-joventut-esportiva-veterans-de-riba-roja/
ATTACH;FMTTYPE=image/png:https://riba-roja.cat/wp-content/uploads/2022/08/Banner_300x250.png
END:VEVENT
BEGIN:VEVENT
DTSTART;TZID=Europe/Madrid:20220824T180000
DTEND;TZID=Europe/Madrid:20220824T190000
DTSTAMP:20260422T230348
CREATED:20220803T082330Z
LAST-MODIFIED:20220803T082330Z
UID:20833-1661364000-1661367600@riba-roja.cat
SUMMARY:Inauguració de l’exposició de Festa Major
DESCRIPTION:A les 18:00h  \nA la sala de plens de la Casa de la Vila\, inauguració de l’exposició de Festa Major. \nExposició fotogràfica: «Dones en el món. Women in the World» de Josep Blanch. Aquesta exposició fotogràfica vol mostrar moments de la vida quotidiana de la dona en diferents parts del món. A través de les fotografies podreu veure com la seva manera de viure i de ser canvia en funció del seu reconeixement de gènere en la societat on es desenvolupa la seva vida. \nExposició biogràfica: “TE N’A-DONES?” del Centre d’Estudis de la Ribera d’Ebre (CERE). Primera exposició per visibilitzar dones de la Ribera d’Ebre que han deixat i deixen petjada. Un convit a descobrir dones pioneres de tots els pobles de la comarca.  \nCol·labora: Centre d’Estudis de la Ribera d’Ebre
URL:https://riba-roja.cat/agenda/inauguracio-de-lexposicio-de-festa-major/
ATTACH;FMTTYPE=image/png:https://riba-roja.cat/wp-content/uploads/2022/08/Banner_300x250.png
END:VEVENT
BEGIN:VEVENT
DTSTART;TZID=Europe/Madrid:20220824T170000
DTEND;TZID=Europe/Madrid:20220824T190000
DTSTAMP:20260422T230348
CREATED:20220803T082532Z
LAST-MODIFIED:20220803T082532Z
UID:20836-1661360400-1661367600@riba-roja.cat
SUMMARY:XXXVIè Campionat de Botifarra i XVIIè Memorial Kilner Terré
DESCRIPTION:A les 17.00h  \nA la Llar dels Jubilats\, XXXVIé Campionat de Botifarra i XVIIé Memorial Kilner Terré.
URL:https://riba-roja.cat/agenda/xxxvie-campionat-de-botifarra-i-xviie-memorial-kilner-terre/
ATTACH;FMTTYPE=image/png:https://riba-roja.cat/wp-content/uploads/2022/08/Banner_300x250.png
END:VEVENT
BEGIN:VEVENT
DTSTART;TZID=Europe/Madrid:20220824T130000
DTEND;TZID=Europe/Madrid:20220824T140000
DTSTAMP:20260422T230348
CREATED:20220803T082853Z
LAST-MODIFIED:20220803T084537Z
UID:20839-1661346000-1661349600@riba-roja.cat
SUMMARY:LXX Cursa Pedestre
DESCRIPTION:En acabar la processó\, tindrà lloc la tradicional LXX Cursa Pedestre  \n  \nBASES DE LA CURSA \n– Seran considerats locals les persones empadronades al poble\, i les que hagin estat \nempadronades un mínim de 10 anys al poble. \n– Serà imprescindible tenir una inscripció mínima de 5 participants en cada \ncategoria per accedir als premis econòmics. \n– La categoria juvenil comprèn les edats dels 12 als 15 anys. Els menors de 12 anys \npodran participar a les curses organitzades el dia 28 per la tarda en el marc de les \n“Olimpíades infantils”. \n– L’edat mínima per participar a la categoria veterans és de 50 anys. \n– La distància a recórrer en les categories masculí\, femení i veterà és de 10 voltes en \nel circuit habitual; mentre que la categoria juvenil serà de 2 voltes. \n  \nCATEGORIES I PREMIS \nLOCAL MASCULÍ \n\n1r. 200€ + 40è Trofeu Casa Adell\n2n. 175€ + 5è Trofeu La Pansa\n3r. 150€ + Trofeu\n\nLOCAL FEMENÍ \n\n1r. 200€ + 5è Trofeu Cal Grando\n2n. 175€ + Trofeu\n3r. 150€ + Trofeu\n\nGENERAL MASCULÍ \n\n1r. 250€ + Trofeu + gall\n2n. 200€ + Trofeu + conill\n3r. 150€ + Trofeu + ceba\n\nGENERAL FEMENÍ \n\n1r. 250€ + Trofeu + gall\n2n. 200€ + Trofeu + conill\n3r. 150€ + Trofeu + ceba\n\nVETERANS \n\n1r. 50€ + Trofeu\n\nJUVENILS \n\n1r. 25€ + Medalla\n\nCol·labora: Figot Tour
URL:https://riba-roja.cat/agenda/lxx-cursa-pedestre/
ATTACH;FMTTYPE=image/png:https://riba-roja.cat/wp-content/uploads/2022/08/Banner_300x250.png
END:VEVENT
END:VCALENDAR