BEGIN:VCALENDAR
VERSION:2.0
PRODID:-//Ajuntament de Riba-roja d&#039;Ebre - ECPv6.15.20//NONSGML v1.0//EN
CALSCALE:GREGORIAN
METHOD:PUBLISH
X-WR-CALNAME:Ajuntament de Riba-roja d&#039;Ebre
X-ORIGINAL-URL:https://riba-roja.cat
X-WR-CALDESC:Eventos para Ajuntament de Riba-roja d&#039;Ebre
REFRESH-INTERVAL;VALUE=DURATION:PT1H
X-Robots-Tag:noindex
X-PUBLISHED-TTL:PT1H
BEGIN:VTIMEZONE
TZID:Europe/Madrid
BEGIN:DAYLIGHT
TZOFFSETFROM:+0100
TZOFFSETTO:+0200
TZNAME:CEST
DTSTART:20210328T010000
END:DAYLIGHT
BEGIN:STANDARD
TZOFFSETFROM:+0200
TZOFFSETTO:+0100
TZNAME:CET
DTSTART:20211031T010000
END:STANDARD
BEGIN:DAYLIGHT
TZOFFSETFROM:+0100
TZOFFSETTO:+0200
TZNAME:CEST
DTSTART:20220327T010000
END:DAYLIGHT
BEGIN:STANDARD
TZOFFSETFROM:+0200
TZOFFSETTO:+0100
TZNAME:CET
DTSTART:20221030T010000
END:STANDARD
BEGIN:DAYLIGHT
TZOFFSETFROM:+0100
TZOFFSETTO:+0200
TZNAME:CEST
DTSTART:20230326T010000
END:DAYLIGHT
BEGIN:STANDARD
TZOFFSETFROM:+0200
TZOFFSETTO:+0100
TZNAME:CET
DTSTART:20231029T010000
END:STANDARD
END:VTIMEZONE
BEGIN:VEVENT
DTSTART;TZID=Europe/Madrid:20220824T230000
DTEND;TZID=Europe/Madrid:20220824T235900
DTSTAMP:20260423T021503
CREATED:20220803T081637Z
LAST-MODIFIED:20220803T081637Z
UID:20824-1661382000-1661385540@riba-roja.cat
SUMMARY:Ball de Coques i ball de Plaça
DESCRIPTION:A les 22:30h \nConcentració a la plaça de la Vila per baixar a la plaça de l’Església per ballar el tradicional Ball de Coques. \nEs repartirà coca i mistela a tothom. \nTot seguit\, la Banda Vila de Falset ens amenitzarà amb el tradicional Ball de Plaça. \nCol·labora: Grup de Jotes de Riba-roja i Joventut Esportiva Riba-roja
URL:https://riba-roja.cat/agenda/ball-de-coques-i-ball-de-placa/
ATTACH;FMTTYPE=image/png:https://riba-roja.cat/wp-content/uploads/2022/08/Banner_300x250.png
END:VEVENT
BEGIN:VEVENT
DTSTART;TZID=Europe/Madrid:20220824T200000
DTEND;TZID=Europe/Madrid:20220824T213000
DTSTAMP:20260423T021503
CREATED:20220803T081815Z
LAST-MODIFIED:20220803T081815Z
UID:20827-1661371200-1661376600@riba-roja.cat
SUMMARY:Concert de tarda
DESCRIPTION:A les 20:00h \nA la Pista d’estiu de la Societat\, concert de tarda amb l’orquestra Welcome Band. \nEntrada gratuïta.
URL:https://riba-roja.cat/agenda/concert-de-tarda/
ATTACH;FMTTYPE=image/png:https://riba-roja.cat/wp-content/uploads/2022/08/Banner_300x250.png
END:VEVENT
BEGIN:VEVENT
DTSTART;TZID=Europe/Madrid:20220824T190000
DTEND;TZID=Europe/Madrid:20220824T203000
DTSTAMP:20260423T021503
CREATED:20220803T082033Z
LAST-MODIFIED:20220803T082033Z
UID:20830-1661367600-1661373000@riba-roja.cat
SUMMARY:Futbol sala: Joventut Esportiva - Veterans de Riba-roja
DESCRIPTION:A les 19:00h \nAl Pavelló Municipal d’esports\, el tradicional partit de Fútbol sala amb els equips\nJ.E. Riba-roja d’Ebre i Veterans Riba-roja d’Ebre. \nOrganitza: Joventut Esportiva Riba-roja d’Ebre
URL:https://riba-roja.cat/agenda/futbol-sala-joventut-esportiva-veterans-de-riba-roja/
ATTACH;FMTTYPE=image/png:https://riba-roja.cat/wp-content/uploads/2022/08/Banner_300x250.png
END:VEVENT
BEGIN:VEVENT
DTSTART;TZID=Europe/Madrid:20220824T180000
DTEND;TZID=Europe/Madrid:20220824T190000
DTSTAMP:20260423T021503
CREATED:20220803T082330Z
LAST-MODIFIED:20220803T082330Z
UID:20833-1661364000-1661367600@riba-roja.cat
SUMMARY:Inauguració de l’exposició de Festa Major
DESCRIPTION:A les 18:00h  \nA la sala de plens de la Casa de la Vila\, inauguració de l’exposició de Festa Major. \nExposició fotogràfica: «Dones en el món. Women in the World» de Josep Blanch. Aquesta exposició fotogràfica vol mostrar moments de la vida quotidiana de la dona en diferents parts del món. A través de les fotografies podreu veure com la seva manera de viure i de ser canvia en funció del seu reconeixement de gènere en la societat on es desenvolupa la seva vida. \nExposició biogràfica: “TE N’A-DONES?” del Centre d’Estudis de la Ribera d’Ebre (CERE). Primera exposició per visibilitzar dones de la Ribera d’Ebre que han deixat i deixen petjada. Un convit a descobrir dones pioneres de tots els pobles de la comarca.  \nCol·labora: Centre d’Estudis de la Ribera d’Ebre
URL:https://riba-roja.cat/agenda/inauguracio-de-lexposicio-de-festa-major/
ATTACH;FMTTYPE=image/png:https://riba-roja.cat/wp-content/uploads/2022/08/Banner_300x250.png
END:VEVENT
BEGIN:VEVENT
DTSTART;TZID=Europe/Madrid:20220824T170000
DTEND;TZID=Europe/Madrid:20220824T190000
DTSTAMP:20260423T021503
CREATED:20220803T082532Z
LAST-MODIFIED:20220803T082532Z
UID:20836-1661360400-1661367600@riba-roja.cat
SUMMARY:XXXVIè Campionat de Botifarra i XVIIè Memorial Kilner Terré
DESCRIPTION:A les 17.00h  \nA la Llar dels Jubilats\, XXXVIé Campionat de Botifarra i XVIIé Memorial Kilner Terré.
URL:https://riba-roja.cat/agenda/xxxvie-campionat-de-botifarra-i-xviie-memorial-kilner-terre/
ATTACH;FMTTYPE=image/png:https://riba-roja.cat/wp-content/uploads/2022/08/Banner_300x250.png
END:VEVENT
BEGIN:VEVENT
DTSTART;TZID=Europe/Madrid:20220824T130000
DTEND;TZID=Europe/Madrid:20220824T140000
DTSTAMP:20260423T021504
CREATED:20220803T082853Z
LAST-MODIFIED:20220803T084537Z
UID:20839-1661346000-1661349600@riba-roja.cat
SUMMARY:LXX Cursa Pedestre
DESCRIPTION:En acabar la processó\, tindrà lloc la tradicional LXX Cursa Pedestre  \n  \nBASES DE LA CURSA \n– Seran considerats locals les persones empadronades al poble\, i les que hagin estat \nempadronades un mínim de 10 anys al poble. \n– Serà imprescindible tenir una inscripció mínima de 5 participants en cada \ncategoria per accedir als premis econòmics. \n– La categoria juvenil comprèn les edats dels 12 als 15 anys. Els menors de 12 anys \npodran participar a les curses organitzades el dia 28 per la tarda en el marc de les \n“Olimpíades infantils”. \n– L’edat mínima per participar a la categoria veterans és de 50 anys. \n– La distància a recórrer en les categories masculí\, femení i veterà és de 10 voltes en \nel circuit habitual; mentre que la categoria juvenil serà de 2 voltes. \n  \nCATEGORIES I PREMIS \nLOCAL MASCULÍ \n\n1r. 200€ + 40è Trofeu Casa Adell\n2n. 175€ + 5è Trofeu La Pansa\n3r. 150€ + Trofeu\n\nLOCAL FEMENÍ \n\n1r. 200€ + 5è Trofeu Cal Grando\n2n. 175€ + Trofeu\n3r. 150€ + Trofeu\n\nGENERAL MASCULÍ \n\n1r. 250€ + Trofeu + gall\n2n. 200€ + Trofeu + conill\n3r. 150€ + Trofeu + ceba\n\nGENERAL FEMENÍ \n\n1r. 250€ + Trofeu + gall\n2n. 200€ + Trofeu + conill\n3r. 150€ + Trofeu + ceba\n\nVETERANS \n\n1r. 50€ + Trofeu\n\nJUVENILS \n\n1r. 25€ + Medalla\n\nCol·labora: Figot Tour
URL:https://riba-roja.cat/agenda/lxx-cursa-pedestre/
ATTACH;FMTTYPE=image/png:https://riba-roja.cat/wp-content/uploads/2022/08/Banner_300x250.png
END:VEVENT
BEGIN:VEVENT
DTSTART;TZID=Europe/Madrid:20220824T110000
DTEND;TZID=Europe/Madrid:20220824T130000
DTSTAMP:20260423T021504
CREATED:20220803T083056Z
LAST-MODIFIED:20220803T083106Z
UID:20842-1661338800-1661346000@riba-roja.cat
SUMMARY:Missa i processó en honor de Sant Bartomeu
DESCRIPTION:A les 11.00h \nSanta Missa en honor al nostre patró Sant Bartomeu. Majorals: Rosa Busom Duaigües \nProcessó i pa beneit. \nCol·labora: Joventut Esportiva Riba-roja
URL:https://riba-roja.cat/agenda/missa-i-processo-en-honor-de-sant-bartomeu/
ATTACH;FMTTYPE=image/png:https://riba-roja.cat/wp-content/uploads/2022/08/Banner_300x250.png
END:VEVENT
BEGIN:VEVENT
DTSTART;TZID=Europe/Madrid:20220824T100000
DTEND;TZID=Europe/Madrid:20220824T110000
DTSTAMP:20260423T021504
CREATED:20220803T084715Z
LAST-MODIFIED:20220803T084852Z
UID:20848-1661335200-1661338800@riba-roja.cat
SUMMARY:Cercavila matinal
DESCRIPTION:A les 10:00h \nCercavila matinal amb la Banda Vila de Falset i els capgrossos. \nEn totes les cercaviles\, col·labora: Associació Riba-rocks.
URL:https://riba-roja.cat/agenda/cercavila-matinal-de-festa-major/
ATTACH;FMTTYPE=image/png:https://riba-roja.cat/wp-content/uploads/2022/08/Banner_300x250.png
END:VEVENT
BEGIN:VEVENT
DTSTART;TZID=Europe/Madrid:20220824T080000
DTEND;TZID=Europe/Madrid:20220824T080000
DTSTAMP:20260423T021504
CREATED:20220803T085302Z
LAST-MODIFIED:20220803T085302Z
UID:20861-1661328000-1661328000@riba-roja.cat
SUMMARY:Toc de Diana anunciant la festivitat de Sant Bartomeu
DESCRIPTION:Festivitat de Sant Bartomeu\, patró de Riba-roja d’Ebre \nA les 8:00h  \nToc de diana amb la Banda Vila de Falset.
URL:https://riba-roja.cat/agenda/toc-de-diana-anunciant-la-festivitat-de-sant-bartomeu/
ATTACH;FMTTYPE=image/png:https://riba-roja.cat/wp-content/uploads/2022/08/Banner_300x250.png
END:VEVENT
BEGIN:VEVENT
DTSTART;TZID=Europe/Madrid:20220823T230000
DTEND;TZID=Europe/Madrid:20220823T235900
DTSTAMP:20260423T021504
CREATED:20220803T085547Z
LAST-MODIFIED:20220805T081559Z
UID:20865-1661295600-1661299140@riba-roja.cat
SUMMARY:Pregó\, proclamació de la Pubilla i Hereus i ball de Festa Major
DESCRIPTION:A les 23:00h  \nA la sala del cinema de la Societat\, proclamació de la Pubilla: Itziar Navarro Rodríguez; i dels Hereus 2022: Blai Bonet Alabart i Richard Llop Guillamon. \nA continuació\, Pregó de festes a càrrec del Sr. Josep Alió Raduà de Ca Anton; arquitecte urbanista; postgrau de Paisatge i màster en Projectació i Gestió Urbanística. \nTot seguit\, les Pubilles\, Hereus i autoritats inauguraran el ball\, amenitzat per l’Orquestra Mediterrànea quintet.
URL:https://riba-roja.cat/agenda/prego-proclamacio-de-la-pubilla-i-hereus-i-ball-de-festa-major/
ATTACH;FMTTYPE=image/png:https://riba-roja.cat/wp-content/uploads/2022/08/Banner_300x250.png
END:VEVENT
BEGIN:VEVENT
DTSTART;TZID=Europe/Madrid:20220823T183000
DTEND;TZID=Europe/Madrid:20220823T193000
DTSTAMP:20260423T021504
CREATED:20220803T085742Z
LAST-MODIFIED:20220803T085742Z
UID:20868-1661279400-1661283000@riba-roja.cat
SUMMARY:Espectacle de circ
DESCRIPTION:A les 18:30h \nA la Plaça del forn\, espectacle de circ “The Circpàtics”. Prepareu-vos per gaudir dels millors trucs de màgia en directe
URL:https://riba-roja.cat/agenda/espectacle-de-circ/
ATTACH;FMTTYPE=image/png:https://riba-roja.cat/wp-content/uploads/2022/08/Banner_300x250.png
END:VEVENT
BEGIN:VEVENT
DTSTART;TZID=Europe/Madrid:20220823T120000
DTEND;TZID=Europe/Madrid:20220823T121500
DTSTAMP:20260423T021504
CREATED:20220803T085912Z
LAST-MODIFIED:20220803T085912Z
UID:20871-1661256000-1661256900@riba-roja.cat
SUMMARY:Gran tronada i repic de campanes
DESCRIPTION:A les 12:00h \nGran tronada i repic de campanes tradicional anunciant l’inici de la Festa Major 2022.
URL:https://riba-roja.cat/agenda/gran-tronada-i-repic-de-campanes/
ATTACH;FMTTYPE=image/png:https://riba-roja.cat/wp-content/uploads/2022/08/Banner_300x250.png
END:VEVENT
BEGIN:VEVENT
DTSTART;TZID=Europe/Madrid:20220821T090000
DTEND;TZID=Europe/Madrid:20220821T130000
DTSTAMP:20260423T021504
CREATED:20220803T090656Z
LAST-MODIFIED:20220803T090718Z
UID:20881-1661072400-1661086800@riba-roja.cat
SUMMARY:Campionat lliure de petanca
DESCRIPTION:A partir de les 9:00h. \nCampionat lliure de petanca de Festa Major al Camp Municipal d’esports. \nTots els primers de grup competiran en internacional; i premi directe per a tots els segons de cada grup. \nOrganitza: Club Petanca de Riba-roja d’Ebre.
URL:https://riba-roja.cat/agenda/campionat-lliure-de-petanca/
ATTACH;FMTTYPE=image/png:https://riba-roja.cat/wp-content/uploads/2022/08/Banner_300x250.png
END:VEVENT
BEGIN:VEVENT
DTSTART;TZID=Europe/Madrid:20220821T080000
DTEND;TZID=Europe/Madrid:20220821T133000
DTSTAMP:20260423T021504
CREATED:20220803T090845Z
LAST-MODIFIED:20220803T090845Z
UID:20884-1661068800-1661088600@riba-roja.cat
SUMMARY:Concurs de pesca de Festa Major
DESCRIPTION:A les 8:00h. Plaça dels Jubilats\, trobada dels assistents. \nDe 9:30h a 13:00h. Zona de les barbacoes\, concurs de pesca “Coup de Festa Major”. \nOrganitza: Societat de Pesca Esportiva “La Carpa” de Riba-roja d’Ebre.
URL:https://riba-roja.cat/agenda/concurs-de-pesca-de-festa-major/
ATTACH;FMTTYPE=image/png:https://riba-roja.cat/wp-content/uploads/2022/08/Banner_300x250.png
END:VEVENT
BEGIN:VEVENT
DTSTART;TZID=Europe/Madrid:20220820T190000
DTEND;TZID=Europe/Madrid:20220820T210000
DTSTAMP:20260423T021504
CREATED:20220803T090551Z
LAST-MODIFIED:20220803T090551Z
UID:20877-1661022000-1661029200@riba-roja.cat
SUMMARY:Finals de pàdel: Torneig del Caloret
DESCRIPTION:A partir de les 19:00h. \nFinals del Torneig del Caloret d’estiu pàdel. \nOrganitza: Club de Pàdel de Riba-roja d’Ebre.
URL:https://riba-roja.cat/agenda/finals-de-padel-torneig-del-caloret/
ATTACH;FMTTYPE=image/png:https://riba-roja.cat/wp-content/uploads/2022/08/Banner_300x250.png
END:VEVENT
BEGIN:VEVENT
DTSTART;TZID=Europe/Madrid:20220820T170000
DTEND;TZID=Europe/Madrid:20220820T190000
DTSTAMP:20260423T021504
CREATED:20220803T090206Z
LAST-MODIFIED:20220803T090206Z
UID:20874-1661014800-1661022000@riba-roja.cat
SUMMARY:XXIII 12 hores de Botifarra i X Memorial Pepe Arbonés
DESCRIPTION:A les 17:00h. \nAl Bar Pota\, XXIII edició de les 12 hores de Botifarra i X memorial Pepe Arbonés. \nPatrocina: Cansaladeria Cal Grando.
URL:https://riba-roja.cat/agenda/xxiii-12-hores-de-botifarra-i-x-memorial-pepe-arbones/
ATTACH;FMTTYPE=image/png:https://riba-roja.cat/wp-content/uploads/2022/08/Banner_300x250.png
END:VEVENT
BEGIN:VEVENT
DTSTART;VALUE=DATE:20220806
DTEND;VALUE=DATE:20220807
DTSTAMP:20260423T021504
CREATED:20220302T161652Z
LAST-MODIFIED:20220302T162329Z
UID:20239-1659744000-1659830399@riba-roja.cat
SUMMARY:CAMINADA PLUJA D'ESTELS
DESCRIPTION:Dissabte 6 d’agost\, Caminada al Capvespre sota la pluja d’estels. \nOrganitza: Figot Tour. \nPròximament més informació. \nConeix els Figot Tour a la pàgina web de l’entitat. \nLes caminades de Figot Tour per a 2022: 
URL:https://riba-roja.cat/agenda/caminada-pluja-destels/
ATTACH;FMTTYPE=image/png:https://riba-roja.cat/wp-content/uploads/2021/02/figot-tour-destacada-web.png
END:VEVENT
BEGIN:VEVENT
DTSTART;VALUE=DATE:20220616
DTEND;VALUE=DATE:20220623
DTSTAMP:20260423T021504
CREATED:20220420T091807Z
LAST-MODIFIED:20220420T092559Z
UID:20459-1655337600-1655942399@riba-roja.cat
SUMMARY:Matrícula curs 22-23 Llar d'Infants Municipal
DESCRIPTION:Llar d’Infants Municipal els Figotets \nPreinscripció CURS 2022-23 \nPresentació de sol·licituds: del 9 al 13 de maig\, ambdós inclosos.\nMatrícula: del 16 al 22 de juny. \nTelèfon de contacte 977 095 155 \nPels infants que hagin de cursar P2 (nascuts l’any 2020)\, la quota mensual serà gratuïta. \nTota la informació de la preinscripció escolar 0-3 anys al web d’Educació: informa’t! 
URL:https://riba-roja.cat/agenda/matricula-curs-22-23-llar-dinfants-municipal/
LOCATION:LLar d’Infants Municipal Els Figotets\, C/Reus\, 3\, Riba-roja d'Ebre\, Tarragona\, 43790\, España
ATTACH;FMTTYPE=image/png:https://riba-roja.cat/wp-content/uploads/2022/04/llar-infants-curs-22-23.png
END:VEVENT
BEGIN:VEVENT
DTSTART;VALUE=DATE:20220529
DTEND;VALUE=DATE:20220530
DTSTAMP:20260423T021504
CREATED:20220302T161308Z
LAST-MODIFIED:20220302T161308Z
UID:20236-1653782400-1653868799@riba-roja.cat
SUMMARY:CAMINADA FAIÓ ANTIC
DESCRIPTION:Diumenge 29 de març\, Caminada Faió Antic. Anada i tornada en tren dinar a Faió. \nOrganitza: Figot Tour. \nPròximament més informació. \nConeix els Figot Tour a la pàgina web de l’entitat. \nLes caminades de Figot Tour per a 2022: 
URL:https://riba-roja.cat/agenda/caminada-faio-antic/
ATTACH;FMTTYPE=image/png:https://riba-roja.cat/wp-content/uploads/2021/02/figot-tour-destacada-web.png
END:VEVENT
BEGIN:VEVENT
DTSTART;VALUE=DATE:20220509
DTEND;VALUE=DATE:20220514
DTSTAMP:20260423T021504
CREATED:20220420T091042Z
LAST-MODIFIED:20220420T092512Z
UID:20449-1652054400-1652486399@riba-roja.cat
SUMMARY:Preinscripció Curs 2022-23 Llar d'Infants Municipal
DESCRIPTION:Llar d’Infants Municipal els Figotets \nPreinscripció CURS 2022-23 \n\nPresentació de sol·licituds: del 9 al 13 de maig\, ambdós inclosos.\nMatrícula: del 16 al 22 de juny.\n\nTelèfon de contacte 977 095 155 \nPels infants que hagin de cursar P2 (nascuts l’any 2020)\, la quota mensual serà gratuïta. \n  \nTota la informació de la preinscripció escolar 0-3 anys al web d’Educació: informa’t! 
URL:https://riba-roja.cat/agenda/preinscripcio-curs-2022-23-llar-dinfants-municipal/
LOCATION:LLar d’Infants Municipal Els Figotets\, C/Reus\, 3\, Riba-roja d'Ebre\, Tarragona\, 43790\, España
ATTACH;FMTTYPE=image/png:https://riba-roja.cat/wp-content/uploads/2022/04/llar-infants-curs-22-23.png
END:VEVENT
BEGIN:VEVENT
DTSTART;VALUE=DATE:20220501
DTEND;VALUE=DATE:20220502
DTSTAMP:20260423T021504
CREATED:20220420T093653Z
LAST-MODIFIED:20220420T093653Z
UID:20469-1651363200-1651449599@riba-roja.cat
SUMMARY:35a Festa de la Clotxa i 27è Concurs de Paelles
DESCRIPTION:Diumenge 1 de maig se celebra a Riba-roja d’Ebre la Festa de la Clotxa\, una cita que arriba a la seva 35a edició. La diada\, a la zona d’esbarjo de les barbacoes\, estarà amenitzada per la xaranga Tal com sona de Paüls\, i a més de degustar la tradicional clotxa també se celebrarà el Concurs de Paelles\, del qual enguany se celebra la 27a edició. \nOrganitzada per l’Associació de Dones\, amb el suport de l’Ajuntament de Riba-roja d’Ebre\, la venda de tiquets està disponible fins al 29 d’abril a les oficines municipals\, a la llibreria-merceria Mercè i al Forn Montserrat. Preu tiquet: 5 euros.
URL:https://riba-roja.cat/agenda/35a-festa-de-la-clotxa-i-27e-concurs-de-paelles/
ATTACH;FMTTYPE=image/png:https://riba-roja.cat/wp-content/uploads/2022/04/FESTA-CLOTXA.png
END:VEVENT
BEGIN:VEVENT
DTSTART;TZID=Europe/Madrid:20220429T160000
DTEND;TZID=Europe/Madrid:20220429T180000
DTSTAMP:20260423T021504
CREATED:20220420T071557Z
LAST-MODIFIED:20220423T080448Z
UID:20434-1651248000-1651255200@riba-roja.cat
SUMMARY:Taller de cianotípia
DESCRIPTION:Divendres 22 d’abril\, a la tarda\, la regidoria de Cultura organitza un taller de cianotípia\, a càrrec de Roser Gay. A partir de les 4 de la tarda. \nPLACES LIMITADES!\nEn aquest taller coneixerem aquesta tècnica tan interessant que ens pot servir per a imprimir les nostres imatges i per a realitzar els nostres llibres de viatges. Retornarem al moment en què la fotografia no era digital i la llum es convertia en imatge. Per a participar és imprescindible enviar un retrat i un paisatge fet per nosaltres abans del dia 20 d’abril al correu rosergconsola@gmail.com\, ja que farem les impressions de les nostres pròpies fotografies. \nEn el cas que no fes un dia assolellat ens veuríem obligades a ajornar el taller al divendres següent\, perquè el revelatge de les imatges es fa amb els rajos ultraviolats del Sol.
URL:https://riba-roja.cat/agenda/taller-de-cianotipia/
ATTACH;FMTTYPE=image/png:https://riba-roja.cat/wp-content/uploads/2022/04/Captura-de-pantalla-2022-04-20-a-las-9.02.35.png
END:VEVENT
BEGIN:VEVENT
DTSTART;TZID=Europe/Madrid:20220423T193000
DTEND;TZID=Europe/Madrid:20220423T210000
DTSTAMP:20260423T021504
CREATED:20220420T073353Z
LAST-MODIFIED:20220420T073353Z
UID:20444-1650742200-1650747600@riba-roja.cat
SUMMARY:Tarda de jazz i vins per la Diada de Sant Jordi
DESCRIPTION:Cartell del concert de jazz i tast de vins per sant Jordi.  \nLa Pista d’Estiu de la Societat serà escenari la tarda del 23 d’abril d’un concert de jazz amb Nosotros también trio\, i un tast de vins i una degustació de tapes\, organitzat per la Txavalada i l’Agrari en motiu de la Diada de Sant Jordi. La cita és a dos quarts de 8 del vespre\, i cal portar la copa de casa. \nVenda de tiquets a les oficines municipals fins divendres 22 d’abril. \nPreu: 15 euros\, inclou 4 tasts de vins i degustació de tapes. \nConsulteu el cartell amb tots els actes de la Diada. \n 
URL:https://riba-roja.cat/agenda/tarda-de-jazz-i-vins-per-la-diada-de-sant-jordi/
LOCATION:Pista d’Estiu de la Societat\, carrer Fatarella\, Riba-roja d'Ebre
ATTACH;FMTTYPE=image/png:https://riba-roja.cat/wp-content/uploads/2022/04/Captura-de-pantalla-2022-04-20-a-las-9.02.35.png
END:VEVENT
BEGIN:VEVENT
DTSTART;TZID=Europe/Madrid:20220423T110000
DTEND;TZID=Europe/Madrid:20220423T140000
DTSTAMP:20260423T021504
CREATED:20220420T072337Z
LAST-MODIFIED:20220420T072337Z
UID:20440-1650711600-1650722400@riba-roja.cat
SUMMARY:Gimcana i conta-contes per la Diada de Sant Jordi
DESCRIPTION:Riba-roja d’Ebre celebra la Diada de Sant Jordi amb un matí d’actes infantils\, un vermut i\, a la tarda\, un concert de jazz amb tast de vins. \nA les 11h\, gimcana infantil Salvem el cavaller Jordi. Punt de trobada: Plaça de la Vila\, no cal inscripció. \nA les 12h\, conta-contes i taller infantil Emocionem-nos amb el monstre de colors\, a la Pista d’Estiu de la Societat. \nA les 13h\, música catalana per amenitzar el vermut\, a través de la megafonia municipal.
URL:https://riba-roja.cat/agenda/gimcana-i-conta-contes-per-la-diada-de-sant-jordi/
ATTACH;FMTTYPE=image/png:https://riba-roja.cat/wp-content/uploads/2022/04/Captura-de-pantalla-2022-04-20-a-las-9.02.35.png
END:VEVENT
BEGIN:VEVENT
DTSTART;TZID=Europe/Madrid:20220422T093000
DTEND;TZID=Europe/Madrid:20220422T130000
DTSTAMP:20260423T021504
CREATED:20220420T070818Z
LAST-MODIFIED:20220420T071754Z
UID:20431-1650619800-1650632400@riba-roja.cat
SUMMARY:L'escola celebra la Diada de Sant Jordi a la plaça
DESCRIPTION:Actes de la Diada de Sant Jordi. \nEls alumnes de l’escola sant Agustí de Riba-roja d’Ebre surten aquest divendres 22 d’abril a la plaça i els carrers del poble amb les tradicionals parades de roses i punts de llibre. \nAixí\, partir de les 9:30h\, la plaça dels Jubilats serà escenari de la Diada de Sant Jordi amb els més petits\, que portaran la tradició i bon ambient als carrers de la vila\, coincidint amb què és dia de mercat municipal. \nDe les 10 a les 11h\, es farà un taller escolar sobre el Muntatge de personatges històrics a l’Aula Municipal de Música. \nA les 12h\, l’alumnat de cicle superior interpretarà un teatre de titelles sobre La llegenda de Sant Jordi\, a la mateixa plaça dels Jubilats. \nConsulteu el cartell amb tots els actes de la Diada.
URL:https://riba-roja.cat/agenda/lescola-celebra-la-diada-de-sant-jordi-a-la-placa/
LOCATION:Plaça dels Jubilats
ATTACH;FMTTYPE=image/png:https://riba-roja.cat/wp-content/uploads/2022/04/Captura-de-pantalla-2022-04-20-a-las-9.02.35.png
END:VEVENT
BEGIN:VEVENT
DTSTART;VALUE=DATE:20220415
DTEND;VALUE=DATE:20220416
DTSTAMP:20260423T021504
CREATED:20220302T160734Z
LAST-MODIFIED:20220302T160734Z
UID:20231-1649980800-1650067199@riba-roja.cat
SUMMARY:CAMINADA DELS VALENCIANS
DESCRIPTION:Divendres 15 d’abril\, Caminada dels Valencians. Amb sortida i arribada a la presa de Riba-roja d’Ebre. \nOrganitza: Figot Tour. \nPròximament més informació. \nConeix els Figot Tour a la pàgina web de l’entitat. \nLes caminades de Figot Tour per a 2022:  \n \n  \n 
URL:https://riba-roja.cat/agenda/caminada-dels-valencians/
ATTACH;FMTTYPE=image/png:https://riba-roja.cat/wp-content/uploads/2021/02/figot-tour-destacada-web.png
END:VEVENT
BEGIN:VEVENT
DTSTART;VALUE=DATE:20220409
DTEND;VALUE=DATE:20220410
DTSTAMP:20260423T021504
CREATED:20220315T113450Z
LAST-MODIFIED:20220315T114919Z
UID:20344-1649462400-1649548799@riba-roja.cat
SUMMARY:I EbreXtrem MTB Ultramarathon a Riba-roja d'Ebre
DESCRIPTION:Riba-roja d’Ebre acull el dissabte 9 d’abril la prova EbreXtrem MTB Ultramarathon\, organitzada pel Club Ciclista Riba-roja\, amb el suport de l’Ajuntament de Riba-roja d’Ebre i la Federació Catalana de Ciclisme. \nLa primera edició d’EbreXtrem enceta el calendari de Copa Catalana d’Ultramarató en BTT\, per primer cop iniciant-se a les Terres de l’Ebre\, i comptarà amb més d’un centenar de participants. El Club Ciclista de Riba-roja d’Ebre aposta\, així\, per l’esport i pel municipi organitzant una de les proves més espectaculars i dures del calendari. És una aventura extrema\, de 125 km i uns 3.450 m de desnivell positiu\, la qual cosa farà que els participants estiguin tot el dia rodant per camins i senderes de Riba-roja d’Ebre\, a més de passar pels termes municipals de pobles limítrofs. \nEls corredors es trobaran una prova dura\, exigent i alhora espectacular pels seus paisatges\, terreny i el riu\, que divideix el recorregut en dues parts. A més moltes entitats i establiments municipals col·laboraran amb els seus productes perquè els participants gaudeixin i coneguin el terme i els productes locals del nostre poble. \nMés informació i inscripcions:\nhttps://clubciclistaribaro.wixsite.com/ebrextrem \n \nSi vols més informació o fer-te soci del Club Ciclista Riba-roja consulta l’apartat web de l’entitat en aquest enllaç: https://riba-roja.cat/municipi/entitats/club-ciclista-riba-roja-debre/
URL:https://riba-roja.cat/agenda/i-ebrextrem-mtb-ultramarathon-a-riba-roja-debre/
LOCATION:Riba-roja d’Ebre
ATTACH;FMTTYPE=image/jpeg:https://riba-roja.cat/wp-content/uploads/2021/09/logo_club.jpg
END:VEVENT
BEGIN:VEVENT
DTSTART;TZID=Europe/Madrid:20220330T100000
DTEND;TZID=Europe/Madrid:20220330T120000
DTSTAMP:20260423T021504
CREATED:20220308T121256Z
LAST-MODIFIED:20220315T120233Z
UID:20303-1648634400-1648641600@riba-roja.cat
SUMMARY:Jornada de portes obertes LLIM Els Figotets
DESCRIPTION:La regidoria d’Educació de l’Ajuntament de Riba-roja d’Ebre organitza aquest mes de març tres jornades de portes obertes a la Llar d’Infants Municipal Els Figotets per donar a conèixer el centre i el projecte educatiu d’aquest equipament municipal. \nLes visites\, obertes a totes aquelles famílies interessades a escolaritzar els seus fills entre els 0 i els 3 anys\, poden fer-se en les següents dates i horaris: \n\nDilluns 28 de març\, de 15 a 16 hores\nDimarts 29 de març\, de 15 a 16 hores\nDimecres 30 de març\, de 10 a 12 hores.\n\n  \nPREINSCRIPCIONS: Del 9 al 20 de maig \nMATRICULACIONS: Del 16 al 22 de juny.  \n  \nMatrícula oberta tot el curs escolar.
URL:https://riba-roja.cat/agenda/jornada-de-portes-obertes-llim-els-figotets-2/
LOCATION:LLar d’Infants Municipal Els Figotets\, C/Reus\, 3\, Riba-roja d'Ebre\, Tarragona\, 43790\, España
ATTACH;FMTTYPE=image/jpeg:https://riba-roja.cat/wp-content/uploads/2014/09/web-llar-infants.jpg
END:VEVENT
BEGIN:VEVENT
DTSTART;TZID=Europe/Madrid:20220329T150000
DTEND;TZID=Europe/Madrid:20220329T160000
DTSTAMP:20260423T021504
CREATED:20220308T121120Z
LAST-MODIFIED:20220315T120154Z
UID:20299-1648566000-1648569600@riba-roja.cat
SUMMARY:Jornada de portes obertes LLIM Els Figotets
DESCRIPTION:La regidoria d’Educació de l’Ajuntament de Riba-roja d’Ebre organitza aquest mes de març tres jornades de portes obertes a la Llar d’Infants Municipal Els Figotets per donar a conèixer el centre i el projecte educatiu d’aquest equipament municipal. \nLes visites\, obertes a totes aquelles famílies interessades a escolaritzar els seus fills entre els 0 i els 3 anys\, poden fer-se en les següents dates i horaris: \n\nDilluns 28 de març\, de 15 a 16 hores\nDimarts 29 de març\, de 15 a 16 hores\nDimecres 30 de març\, de 10 a 12 hores.\n\n  \nPREINSCRIPCIONS: Del 9 al 20 de maig \nMATRICULACIONS: Del 16 al 22 de juny.  \n  \nMatrícula oberta tot el curs escolar.
URL:https://riba-roja.cat/agenda/jornada-de-portes-obertes-llim-els-figotets/
LOCATION:LLar d’Infants Municipal Els Figotets\, C/Reus\, 3\, Riba-roja d'Ebre\, Tarragona\, 43790\, España
ATTACH;FMTTYPE=image/jpeg:https://riba-roja.cat/wp-content/uploads/2014/09/web-llar-infants.jpg
END:VEVENT
BEGIN:VEVENT
DTSTART;TZID=Europe/Madrid:20220328T150000
DTEND;TZID=Europe/Madrid:20220328T160000
DTSTAMP:20260423T021504
CREATED:20220308T120853Z
LAST-MODIFIED:20220315T120112Z
UID:20291-1648479600-1648483200@riba-roja.cat
SUMMARY:Jornada de portes obertes LLIM Els Figotets
DESCRIPTION:La regidoria d’Educació de l’Ajuntament de Riba-roja d’Ebre organitza aquest mes de març tres jornades de portes obertes a la Llar d’Infants Municipal Els Figotets per donar a conèixer el centre i el projecte educatiu d’aquest equipament municipal. \nLes visites\, obertes a totes aquelles famílies interessades a escolaritzar els seus fills entre els 0 i els 3 anys\, poden fer-se en les següents dates i horaris: \n\nDilluns 28 de març\, de 15 a 16 hores\nDimarts 29 de març\, de 15 a 16 hores\nDimecres 30 de març\, de 10 a 12 hores.\n\n  \nPREINSCRIPCIONS: Del 9 al 20 de maig \nMATRICULACIONS: Del 16 al 22 de juny.  \n  \nMatrícula oberta tot el curs escolar. \n 
URL:https://riba-roja.cat/agenda/jornades-de-portes-obertes-llim-els-figotets/
LOCATION:LLar d’Infants Municipal Els Figotets\, C/Reus\, 3\, Riba-roja d'Ebre\, Tarragona\, 43790\, España
ATTACH;FMTTYPE=image/jpeg:https://riba-roja.cat/wp-content/uploads/2014/09/web-llar-infants.jpg
END:VEVENT
END:VCALENDAR